BEGIN:VCALENDAR
PRODID:NingEventWidget-v1
VERSION:2.0
METHOD:PUBLISH
BEGIN:VEVENT
UID:1171189:Event:58522
DTSTAMP:20260421T065524Z
SUMMARY:Southwest Corridor Public Safety
DESCRIPTION:Make your voice heard this Wednesday, December 1, 7:00 PMÂ
  at theÂ Boston Police Headquarters at 1 Schroeder Plaza on the corner
  of Ruggles and Tremont Streets, near Roxbury Crossing.Â Discuss publi
 c safety withÂ police from the State, MBTA, and the three Boston Distr
 icts andÂ find solutions. This is the regular monthly meeting of the P
 MAC (Parkland Management Advisory Council).\n\nFor more information vi
 sit http://neighborsforneighbors.org/events/southwest-corridor-public
DTSTART:20101202T000000Z
DTEND:20101202T010000Z
CATEGORIES:"public safety", "community meeting"
LOCATION:Boston Police Headquarters
WEBSITE:http://maps.google.com/maps?q=1+schroeder+plaza+boston+ma&oe=U
 TF-8&ie=UTF8&hl=en&hq=&hnear=Schroeder+Plaza,+Boston,+Suffolk,+Massach
 usetts+02120&ll=42.33374,-71.090491&spn=0.003743,0.009602&z=17
URL:http://maps.google.com/maps?q=1+schroeder+plaza+boston+ma&oe=UTF-8
 &ie=UTF8&hl=en&hq=&hnear=Schroeder+Plaza,+Boston,+Suffolk,+Massachuset
 ts+02120&ll=42.33374,-71.090491&spn=0.003743,0.009602&z=17
CONTACT:
ORGANIZER:Parkland Management Advisory Council
ATTACH;FMTTYPE="image/jpeg":
ATTENDEE;ROLE=REQ-PARTICIPANT;PARTSTAT=ACCEPTED;RSVP=TRUE;CN="Ferris W
 heels Bike Shop":http://neighborsforneighbors.org/profile/FerrisWheels
 BikeShop
END:VEVENT
END:VCALENDAR
