BEGIN:VCALENDAR
PRODID:NingEventWidget-v1
VERSION:2.0
METHOD:PUBLISH
BEGIN:VEVENT
UID:1171189:Event:36469
DTSTAMP:20260421T182041Z
SUMMARY:Spanish - English Language Exchange
DESCRIPTION:English speakers can learn Spanish and Spanish speakers ca
 n learn English in this fun conversation class.\n\nFor more informatio
 n visit http://neighborsforneighbors.org/events/spanish-english-langua
 ge-1
DTSTART:20100327T161500Z
DTEND:20100327T174500Z
CATEGORIES:spanish, english, languages
LOCATION:Connolly Branch Library
WEBSITE:http://www.bpl.org/branches/connolly.htm
URL:http://www.bpl.org/branches/connolly.htm
CONTACT:617-522-1960
ORGANIZER;CN="Connolly Branch Library":http://neighborsforneighbors.or
 g/profile/ConnollyBranchLibrary
ATTACH;FMTTYPE="image/jpeg":http://storage.ning.com/topology/rest/1.0/
 file/get/2186464672?profile=original
ATTENDEE;ROLE=REQ-PARTICIPANT;PARTSTAT=ACCEPTED;RSVP=TRUE;CN="Connolly
  Branch Library":http://neighborsforneighbors.org/profile/ConnollyBran
 chLibrary
ATTENDEE;ROLE=REQ-PARTICIPANT;PARTSTAT=TENTATIVE;RSVP=TRUE;CN="ld farr
 ell":http://neighborsforneighbors.org/profile/ldfarrell
END:VEVENT
END:VCALENDAR
