BEGIN:VCALENDAR
PRODID:NingEventWidget-v1
VERSION:2.0
METHOD:PUBLISH
BEGIN:VEVENT
UID:1171189:Event:65145
DTSTAMP:20260422T001815Z
SUMMARY:Special Guest: Senator Bernie Sanders
DESCRIPTION:The JP Forum hosts Vermont Senator Bernard Sanders in his 
 only public Boston appearance.  Bernie is the longest serving indepen
 dent member of Congress in U.S. history. He has been an outspoken cham
 pion for peace, worker rights, energy independence, environmental heal
 th, and fair taxation. During the 2010 Lame Duck Congress, the nation 
 watched as Senator Sanders gave a riveting speech rebuking the tax com
 promise between the White House and the Republican leadership in the H
 ouse and Senate.  He has spent his entire career fighting for the peo
 ple of Vermont and United States. This Valentines Day Eve, come show B
 ernie some love!\nAbout Senator Sanders\nBernie Sanders was elected to
  the U.S. Senate in 2006 after serving 16 years in the House of Repres
 entatives. He is the longest serving independent member of Congress in
  American history. Born in 1941 in Brooklyn, Bernie was the younger of
  two sons in a modest-income family. After graduation from the Univers
 ity of Chicago in 1964, he moved to Vermont. Early in his career, Sand
 ers was director of the American People’s Historical Society. Electe
 d Mayor of Burlington by 10 votes in 1981, he served four terms. Befor
 e his 1990 election as Vermont’s at-large member in Congress, Sander
 s lectured at the John F. Kennedy School of Government at Harvard and 
 at Hamilton College in upstate New York.\n\nFor more information visit
  http://neighborsforneighbors.org/events/special-guest-senator-bernie
DTSTART:20110213T200000Z
DTEND:20110213T220000Z
CATEGORIES:discussion
LOCATION:First Church in Jamaica Plain UU, 6 Eliot Street (Across from
  the monument)
WEBSITE:
URL:
CONTACT:
ORGANIZER;CN="Liz W.":http://neighborsforneighbors.org/profile/LizW
ATTACH;FMTTYPE="image/jpeg":http://storage.ning.com/topology/rest/1.0/
 file/get/2245131952?profile=original
ATTENDEE;ROLE=REQ-PARTICIPANT;PARTSTAT=ACCEPTED;RSVP=TRUE;CN="Liz W.":
 http://neighborsforneighbors.org/profile/LizW
END:VEVENT
END:VCALENDAR
