BEGIN:VCALENDAR
PRODID:NingEventWidget-v1
VERSION:2.0
METHOD:PUBLISH
BEGIN:VEVENT
UID:1171189:Event:77348
DTSTAMP:20260421T232224Z
SUMMARY:Special Summer Nights Out - SHOWCASE
DESCRIPTION:Summer Nights Out! 6-8 PM, August 10\nSPECIAL SUMMER SHOWC
 ASE FEATURING our SUMMER YOUTH!\nin front of Blessed Sacrament Church 
 in Hyde Square, Jamaica Plain (365 Centre Street). Join your neighbors
  and make new friends - fun children's literacy activities, health inf
 ormation, free Latin dance lessons, free community ZUMBA class, refres
 hments, food vendors and music!\n\n\nFor more information visit http:/
 /neighborsforneighbors.org/events/special-summer-nights-out
DTSTART:20110810T220000Z
DTEND:20110811T000000Z
CATEGORIES:free, summer, event
LOCATION:Blessed Sacrament Church
WEBSITE:
URL:
CONTACT:617-524-8303
ORGANIZER:Hyde Square Task Force
ATTACH;FMTTYPE="image/jpeg":http://storage.ning.com/topology/rest/1.0/
 file/get/2186461268?profile=original
ATTENDEE;ROLE=REQ-PARTICIPANT;PARTSTAT=ACCEPTED;RSVP=TRUE;CN=Karen:htt
 p://neighborsforneighbors.org/profile/Karen
END:VEVENT
END:VCALENDAR
