BEGIN:VCALENDAR
PRODID:NingEventWidget-v1
VERSION:2.0
METHOD:PUBLISH
BEGIN:VEVENT
UID:1171189:Event:89372
DTSTAMP:20260421T212653Z
SUMMARY:Square Dance at First Parish Church
DESCRIPTION:Square%20Dance%202012-04-28.docx\n\nFor more information v
 isit http://neighborsforneighbors.org/events/square-dance-at-first-par
 ish-church
DTSTART:20120428T230000Z
DTEND:20120429T010000Z
CATEGORIES:square, dance
LOCATION:First Parish Church in Dorchester Parish Hall
WEBSITE:http://firstparishdorchester.org
URL:http://firstparishdorchester.org
CONTACT:617-436-0527
ORGANIZER;CN="Douglas Shaheen":http://neighborsforneighbors.org/profil
 e/DouglasShaheen
ATTACH;FMTTYPE="image/jpeg":
ATTENDEE;ROLE=REQ-PARTICIPANT;PARTSTAT=ACCEPTED;RSVP=TRUE;CN="Douglas 
 Shaheen":http://neighborsforneighbors.org/profile/DouglasShaheen
END:VEVENT
END:VCALENDAR
