BEGIN:VCALENDAR
PRODID:NingEventWidget-v1
VERSION:2.0
METHOD:PUBLISH
BEGIN:VEVENT
UID:1171189:Event:91869
DTSTAMP:20260421T190003Z
SUMMARY:Square Dance on Meetinghouse Hill
DESCRIPTION:Square Dance for people of all ages and dancing abilities.
    Guidance provided by caller Beth Parkes.  Cash Bar.  Refreshmen
 ts served.  $10 per person; $20 max for families.  Doors open at 6; 
 dancing begins at 7.\n\nFor more information visit http://neighborsfor
 neighbors.org/events/square-dance-on-meetinghouse-hill
DTSTART:20121006T220000Z
DTEND:20121007T010000Z
CATEGORIES:dance
LOCATION:First Parish Church in Dorchester
WEBSITE:http://firstparishdorchester.org
URL:http://firstparishdorchester.org
CONTACT:617-436-0527
ORGANIZER:First Parish Church in Dorchester
ATTACH;FMTTYPE="image/jpeg":
ATTENDEE;ROLE=REQ-PARTICIPANT;PARTSTAT=ACCEPTED;RSVP=TRUE;CN="Douglas 
 Shaheen":http://neighborsforneighbors.org/profile/DouglasShaheen
END:VEVENT
END:VCALENDAR
