BEGIN:VCALENDAR
PRODID:NingEventWidget-v1
VERSION:2.0
METHOD:PUBLISH
BEGIN:VEVENT
UID:1171189:Event:62030
DTSTAMP:20260421T202119Z
SUMMARY:Stash Wyslouch & Andy Reiner ~ postponed
DESCRIPTION:Due to circumstances beyond our control, Stash Wyslouch & 
 Andy Reiner's concert has to be POSTPONED to a date to be determined. 
 We are sorry for any inconvenience.\n\n\n\nAndy Reiner, an award-winni
 ng fiddler and violinist from Lexington, MA, grew up in a musical fami
 ly. He began playing at age 5, learning fiddle from his father Dave Re
 iner, a fiddle contest champion and author of instructional fiddle boo
 ks with publisher Mel Bay. Andy took 13 years of classical violin less
 ons from Helene Kamen in Lexington, MA. Attending Mark O’Connor’s 
 Fiddle Camp in Tennessee in ’97 and ’98 changed Andy’s life fore
 ver. Over many summers of fiddle camps, he studied Old Time, Bluegrass
 , Irish, Swing, New England, and other fiddle styles and repertoire, a
 nd internalized the spectrum of different teaching methods of the many
  world-class fiddlers and educators from whom he took workshops.\nStas
 h is a touring musician originally from Lexington, MA but now residin
 g in Brighton, MA and deep in the music scene of Boston. You can find 
 Stash touring nationally and internationally as a vocalist, guitarist 
 and songwriter in bands such as \"Blue Moose and the Unbuttoned Zipper
 s\" whose debut album 'Rousted' is being released in September featuri
 ng many of Stash's original compositions, or in the band \"The Boston 
 Boys\" whose made appearances at festivals such as Grey Fox Bluegrass 
 Festival and recently the New Bedford Summerfest. Stash also tours nat
 ionally and internationally with the band \"The Deadly Gentlemen\" fro
 nted by Greg Liszt, banjo player of the band 'Crooked Still' and forme
 r banjo player of Bruce Springsteen in 2006, whose album \"Carry Me To
  Home\" is in the process of being released after spending a grueling 
 summer recording in studios across all of the United States.Artist’s
  websites Stash - http://www.myspace.com/stashwyslouchAndy - http:/
 /www.andyreiner.com/Doors 7:30, Concert 8:00Coffee, tea and pastries w
 ill be available.Suggested donation $12 at the door; $10 if reservatio
 n is made at least 24 hours in advance and to Loring-Greenough museum 
 members plus $1 preservation fee. Reservation to notlobreservations at
  gmail dot com at least 24 hours in advance are recommended.notloB Fol
 k Concerts are volunteer run and not for profit. Anyone interested in 
 volunteering is encouraged to send an email to notlobreservations at g
 mail dot com\nWebsite ~ http://sites.google.com/site/notlobmusicFaceb
 ook ~ http://www.facebook.com/notloBFolkConcertsMail list ~ http://g
 roups.google.com/group/notlobmusic\n\nFor more information visit http:
 //neighborsforneighbors.org/events/stash-wyslouch-andy-reiner
DTSTART:20110206T010000Z
DTEND:20110206T033000Z
CATEGORIES:concert
LOCATION:Loring-Greenough House
WEBSITE:http://maps.google.com/maps?f=q&source=s_q&hl=en&geocode=&q=12
 +South+Street+02130&sll=42.351996,-71.057153&sspn=0.010498,0.022724&ie
 =UTF8&hq=&hnear=12+South+St,+Boston,+Suffolk,+Massachusetts+02130&z=16
URL:http://maps.google.com/maps?f=q&source=s_q&hl=en&geocode=&q=12+Sou
 th+Street+02130&sll=42.351996,-71.057153&sspn=0.010498,0.022724&ie=UTF
 8&hq=&hnear=12+South+St,+Boston,+Suffolk,+Massachusetts+02130&z=16
CONTACT:
ORGANIZER;CN="Jeff Boudreau":http://neighborsforneighbors.org/profile/
 JeffBoudreau
ATTACH;FMTTYPE="image/jpeg":
ATTENDEE;ROLE=REQ-PARTICIPANT;PARTSTAT=ACCEPTED;RSVP=TRUE;CN="Jeff Bou
 dreau":http://neighborsforneighbors.org/profile/JeffBoudreau
END:VEVENT
END:VCALENDAR
