BEGIN:VCALENDAR
PRODID:NingEventWidget-v1
VERSION:2.0
METHOD:PUBLISH
BEGIN:VEVENT
UID:1171189:Event:65018
DTSTAMP:20260421T172336Z
SUMMARY:State of Our Neighborhood: A Community Conversation
DESCRIPTION:Where: English High School, 144 McBride Street, Boston, MA
  02130, Second Floor Cafetaria\n\n \nElected Officials Confirmed: Sen
 . Sonia Chang-Diaz, Rep. Liz Malia, Rep. Jeffery Sanchez , City Counci
 lor Matt O’Malley and At-Large Councilor Felix Arroyo\nCommunity Lea
 der: Idalia Flores, a Centre St. business owner\n \nJoin your neighbo
 rs for our First Annual “State of J.P.” The President and the Mayo
 r reflect upon the State of our Nation and the State of our City.  Le
 t’s talk about the state of Jamaica Plain. What is happening with Hi
 -Lo Supermarket and food security?  What about youth jobs, local busi
 ness, schools, public safety, housing, transportation, immigration, th
 e environment and other issues facing our neighborhood?\nPriorities fo
 r the neighborhood will be presented by a diverse panel moderated by S
 andee Storey, Editor of the Jamaica Plain Gazette\nAfter the presentat
 ion by the panel will be a question and answer session, and an opportu
 nity to gather in small groups of neighbors for discussion on topics y
 ou chose\nAbout the Jamaica Plain, New Economy Transition www.JPTransi
 tion.org:\nThe next ten years will not look like the last ten years as
  we face a diverse sent of on-going challenges; hurting economy, clima
 te change, rising costs of healthcare, food and energy. How can we get
  ready, as a neighborhood, to ensure all of us live well in a fair and
  sustainable new economy?\nCo-sponsored by: Jamaica Plain Neighborhood
  Development Corporation, City Growers, Bikes Not Bombs, Franklin Park
  Coalition, JP Greenhouse, Cool JP, NPAC,  ESAC, Neighbors for Neighb
 ors, City Feed, Egleston Square Main Streets\n\nFor more information v
 isit http://neighborsforneighbors.org/events/state-of-our-neighborhood
 -a
DTSTART:20110215T230000Z
DTEND:20110216T010000Z
CATEGORIES:discussion
LOCATION:144 McBride Street, Boston, MA 02130, Second Floor Cafetaria
WEBSITE:http://www.jamaicaplainforum.org
URL:http://www.jamaicaplainforum.org
CONTACT:
ORGANIZER;CN="Liz W.":http://neighborsforneighbors.org/profile/LizW
ATTACH;FMTTYPE="image/jpeg":http://storage.ning.com/topology/rest/1.0/
 file/get/2159724415?profile=original
ATTENDEE;ROLE=REQ-PARTICIPANT;PARTSTAT=ACCEPTED;RSVP=TRUE;CN="Belle Ke
 ller":http://neighborsforneighbors.org/profile/BelleKeller
ATTENDEE;ROLE=REQ-PARTICIPANT;PARTSTAT=ACCEPTED;RSVP=TRUE;CN="South St
 reet Youth Center":http://neighborsforneighbors.org/profile/SouthStree
 tYouthCentter
ATTENDEE;ROLE=REQ-PARTICIPANT;PARTSTAT=ACCEPTED;RSVP=TRUE;CN="Joseph P
 orcelli (Chief Neighbor)":http://neighborsforneighbors.org/profile/jos
 ephporcelli
ATTENDEE;ROLE=REQ-PARTICIPANT;PARTSTAT=ACCEPTED;RSVP=TRUE;CN="Captain 
 John Greland":http://neighborsforneighbors.org/profile/JohnGreland
ATTENDEE;ROLE=REQ-PARTICIPANT;PARTSTAT=ACCEPTED;RSVP=TRUE;CN="Liz W.":
 http://neighborsforneighbors.org/profile/LizW
ATTENDEE;ROLE=REQ-PARTICIPANT;PARTSTAT=TENTATIVE;RSVP=TRUE;CN="Ayanna 
 Kilpatrick":http://neighborsforneighbors.org/profile/AyannaKilpatrick
END:VEVENT
END:VCALENDAR
