BEGIN:VCALENDAR
PRODID:NingEventWidget-v1
VERSION:2.0
METHOD:PUBLISH
BEGIN:VEVENT
UID:1171189:Event:90218
DTSTAMP:20260421T172439Z
SUMMARY:Stonybrook Neighborhood Multi-Family Yard Sale
DESCRIPTION:Stonybrook neighborhood multi-family yard sale! Many peopl
 e who live in this area of JP are having yard sales Saturday June 9th 
 starting at 9am. Included streets are: Gartland, Williams, Kenton, For
 est Hills, and Dungarven. This is the neighborhood near Doyles Cafe an
 d Franklin Park.Anything you can think of will be available! Kids clot
 hes & toys, dog accessories, furniture, various household items.\n\nFo
 r more information visit http://neighborsforneighbors.org/events/stony
 brook-neighborhood-multi-family-yard-sale
DTSTART:20120609T040000Z
DTEND:20120610T035900Z
CATEGORIES:yard, sale
LOCATION:Stonybrook Neighborhood
WEBSITE:
URL:
CONTACT:
ORGANIZER;CN=Matt:http://neighborsforneighbors.org/profile/Matt
ATTACH;FMTTYPE="image/jpeg":
ATTENDEE;ROLE=REQ-PARTICIPANT;PARTSTAT=ACCEPTED;RSVP=TRUE;CN=Matt:http
 ://neighborsforneighbors.org/profile/Matt
END:VEVENT
END:VCALENDAR
