BEGIN:VCALENDAR
PRODID:NingEventWidget-v1
VERSION:2.0
METHOD:PUBLISH
BEGIN:VEVENT
UID:1171189:Event:90571
DTSTAMP:20260421T182229Z
SUMMARY:Story Time @ the River
DESCRIPTION:Parents, we hope you can join us for this FREE Story Time 
 for children ages 2-8 years old. Please do not refrain from attending 
 If you have a child under age two. We encourage you to bring them alon
 g. \n\nWe will be reading the Giving Tree and selected poems by Shel 
 Silverstein.  We will also have an Arts & Crafts time after the stori
 es. \n\n\nFor more information visit http://neighborsforneighbors.org
 /events/story-time-the-river
DTSTART:20120707T140000Z
DTEND:20120707T151500Z
CATEGORIES:children, family
LOCATION:River of Life Church
WEBSITE:http://www.rolcboston.org
URL:http://www.rolcboston.org
CONTACT:617.924.3586
ORGANIZER;CN="River of Life Church":http://neighborsforneighbors.org/p
 rofile/RiverofLifeChurch
ATTACH;FMTTYPE="image/jpeg":http://storage.ning.com/topology/rest/1.0/
 file/get/2245139296?profile=original
ATTENDEE;ROLE=REQ-PARTICIPANT;PARTSTAT=ACCEPTED;RSVP=TRUE;CN="River of
  Life Church":http://neighborsforneighbors.org/profile/RiverofLifeChur
 ch
END:VEVENT
END:VCALENDAR
