BEGIN:VCALENDAR
PRODID:NingEventWidget-v1
VERSION:2.0
METHOD:PUBLISH
BEGIN:VEVENT
UID:1171189:Event:77447
DTSTAMP:20260421T200210Z
SUMMARY:Storyliar: Comedy, Storytelling, Lies
DESCRIPTION:Comedians and Raconteurs tell true-ish personal stories. O
 ne of them is a big lying liar. YOU GUESS WHO.\n\nStories by:\n\nLilli
 an DeVane\nKen Reid\nTed Pettingell\nLaura Crawford\nLangston Kerman\n
 Shea Spillane\nWill Noonan\nGuitler Raphael\nRob Crean\nand OTHERS??? 
 MAYBE OTHERS!!!\n\nMusic by:\n\nDJ Yah Mo Be There\n\nWednesday July 2
 0th\n9PM\nAt the Milky Way JP\n\nFor more information visit http://nei
 ghborsforneighbors.org/events/storyliar-comedy-storytelling
DTSTART:20110721T010000Z
DTEND:20110721T030000Z
CATEGORIES:free, comedy, and, storytelling
LOCATION:The Milky Way, JP
WEBSITE:http://www.milkywayjp.com/event/?id=812
URL:http://www.milkywayjp.com/event/?id=812
CONTACT:
ORGANIZER;CN="Walter Cornelius":http://neighborsforneighbors.org/profi
 le/WalterBudzian
ATTACH;FMTTYPE="image/jpeg":http://storage.ning.com/topology/rest/1.0/
 file/get/2245135277?profile=original
ATTENDEE;ROLE=REQ-PARTICIPANT;PARTSTAT=ACCEPTED;RSVP=TRUE;CN="Walter C
 ornelius":http://neighborsforneighbors.org/profile/WalterBudzian
END:VEVENT
END:VCALENDAR
