BEGIN:VCALENDAR
PRODID:NingEventWidget-v1
VERSION:2.0
METHOD:PUBLISH
BEGIN:VEVENT
UID:1171189:Event:77711
DTSTAMP:20260421T190259Z
SUMMARY:STORYLIARS presents: RAGE (a free comedy and storytelling show
 )
DESCRIPTION:Comedians and Raconteurs tell personal stories on the them
 e of RAGE. One of them is a big lying liar. YOU the audience questions
  them to find out who! Prizes begrudgingly thrown at the sleuthiest de
 tectives!\n\nStories by:\nRyan Douglas\nTawanda Gona\nDana Jay Bein\nW
 ill Noonan\n\nAlso featuring comedy from\nGuitler Raphael\nGary Peters
 en\nand\nMatt D.\n\nCo-hosts:\nRob Crean\nand\nWalter Cornelius\n\nFRE
 E SHOW!!\n\nWed. Aug. 17th, 9PM\nThe Milky Way JP\n284 Amory St, 02130
 \n\nFor more information visit http://neighborsforneighbors.org/events
 /storyliars-presents-rage-a-free-comedy-and-storytelling-show
DTSTART:20110818T010000Z
DTEND:20110818T030000Z
CATEGORIES:free, comedy, and, storytelling
LOCATION:The Milky Way, JP
WEBSITE:http://www.storyliars.com
URL:http://www.storyliars.com
CONTACT:
ORGANIZER;CN="Walter Cornelius":http://neighborsforneighbors.org/profi
 le/WalterBudzian
ATTACH;FMTTYPE="image/jpeg":
ATTENDEE;ROLE=REQ-PARTICIPANT;PARTSTAT=ACCEPTED;RSVP=TRUE;CN="Walter C
 ornelius":http://neighborsforneighbors.org/profile/WalterBudzian
END:VEVENT
END:VCALENDAR
