BEGIN:VCALENDAR
PRODID:NingEventWidget-v1
VERSION:2.0
METHOD:PUBLISH
BEGIN:VEVENT
UID:1171189:Event:88668
DTSTAMP:20260421T190336Z
SUMMARY:STORYLIARS presents: TAKE THIS JOB AND SHOVE IT (a free comedy
  and storytelling show)
DESCRIPTION:Comedians and Raconteurs tell personal stories on this mon
 th’s theme: \"Take This Job and Shove It.\" One of them is a big lyi
 ng liar. YOU the audience questions them to find out who! Prizes begru
 dgingly thrown at the sleuthiest detectives!\nTHIS IS A FREE SHOW.  I
  KNOW, UNBE-FRICKEN-LIEVABLE, AMIRIGHT?!?!\nPast guests have included 
 award winning stand ups and late night television guests.  Every mont
 h features some of Boston’s most talented and interesting people!\n\
 nFor more information visit http://neighborsforneighbors.org/events/st
 oryliars-presents-take-this-job-and-shove-it-a-free-comedy-and
DTSTART:20120216T020000Z
DTEND:20120216T040000Z
CATEGORIES:comedy, and, stoytelling, show
LOCATION:Milky Way / Bella Luna
WEBSITE:http://www.storyliars.com
URL:http://www.storyliars.com
CONTACT:
ORGANIZER;CN="Walter Cornelius":http://neighborsforneighbors.org/profi
 le/WalterBudzian
ATTACH;FMTTYPE="image/jpeg":http://storage.ning.com/topology/rest/1.0/
 file/get/2245138956?profile=original
ATTENDEE;ROLE=REQ-PARTICIPANT;PARTSTAT=ACCEPTED;RSVP=TRUE;CN="Walter C
 ornelius":http://neighborsforneighbors.org/profile/WalterBudzian
END:VEVENT
END:VCALENDAR
