BEGIN:VCALENDAR
PRODID:NingEventWidget-v1
VERSION:2.0
METHOD:PUBLISH
BEGIN:VEVENT
UID:1171189:Event:108497
DTSTAMP:20260421T220758Z
SUMMARY:Storytelling Showcase and Slam!
DESCRIPTION:Comedic Storytelling, featuring Storytellers from the Wome
 n in Comedy Festival.  Audience will then have a chance to tell a 5 m
 inute hilarious story and win prizes.\n\nFor more information visit ht
 tp://neighborsforneighbors.org/events/storytelling-showcase-and-slam
DTSTART:20140510T193000Z
DTEND:20140510T210000Z
CATEGORIES:comedy, -, storytelling, night
LOCATION:Club Passim
WEBSITE:http://www.passim.org/club/funny-storytelling-host-robin-maxfi
 eld
URL:http://www.passim.org/club/funny-storytelling-host-robin-maxfield
CONTACT:
ORGANIZER;CN="Robin Maxfield":http://neighborsforneighbors.org/profile
 /RobinMaxfield800
ATTACH;FMTTYPE="image/jpeg":http://storage.ning.com/topology/rest/1.0/
 file/get/2245142275?profile=original
ATTENDEE;ROLE=REQ-PARTICIPANT;PARTSTAT=ACCEPTED;RSVP=TRUE;CN="Robin Ma
 xfield":http://neighborsforneighbors.org/profile/RobinMaxfield800
END:VEVENT
END:VCALENDAR
