BEGIN:VCALENDAR
PRODID:NingEventWidget-v1
VERSION:2.0
METHOD:PUBLISH
BEGIN:VEVENT
UID:1171189:Event:108386
DTSTAMP:20260421T233947Z
SUMMARY:Storytelling / Stand-Up Showcase
DESCRIPTION:Amazing line-up of the funniest female comedians and story
 tellers from the Women in Comedy Festival. Tickets are $20 from WomenI
 nComedyFestival,com. \n\nFor more information visit http://neighborsf
 orneighbors.org/events/storytelling-stand-up-showcase
DTSTART:20140510T230000Z
DTEND:20140511T003000Z
CATEGORIES:comedy, -, storytelling, night
LOCATION:Improv Boston
WEBSITE:http://www.womenincomedyfestival.com/shows/2014/improvbostonsa
 turday7pm
URL:http://www.womenincomedyfestival.com/shows/2014/improvbostonsaturd
 ay7pm
CONTACT:
ORGANIZER;CN="Robin Maxfield":http://neighborsforneighbors.org/profile
 /RobinMaxfield800
ATTACH;FMTTYPE="image/jpeg":http://storage.ning.com/topology/rest/1.0/
 file/get/2245142215?profile=original
ATTENDEE;ROLE=REQ-PARTICIPANT;PARTSTAT=ACCEPTED;RSVP=TRUE;CN="Robin Ma
 xfield":http://neighborsforneighbors.org/profile/RobinMaxfield800
END:VEVENT
END:VCALENDAR
