BEGIN:VCALENDAR
PRODID:NingEventWidget-v1
VERSION:2.0
METHOD:PUBLISH
BEGIN:VEVENT
UID:1171189:Event:76894
DTSTAMP:20260421T232136Z
SUMMARY:Summer Nights Out - Hyde Square Task Force
DESCRIPTION:Summer Nights Out! 6-8 PM, August 3 in front of Blessed Sa
 crament Church in Hyde Square, Jamaica Plain (365 Centre Street). Join
  your neighbors and make new friends - fun children's literacy activit
 ies, health information, free Latin dance lessons, free community ZUMB
 A class, refreshments, food vendors and music!\nOther Summer Nights Ou
 t will be Wednesday -August 10.\n\nFor more information visit http://n
 eighborsforneighbors.org/events/summer-nights-out-hyde-squar-2
DTSTART:20110803T220000Z
DTEND:20110804T000000Z
CATEGORIES:free, summer, event
LOCATION:Blessed Sacrament Church
WEBSITE:
URL:
CONTACT:617-524-8303
ORGANIZER:Hyde Square Task Force
ATTACH;FMTTYPE="image/jpeg":http://storage.ning.com/topology/rest/1.0/
 file/get/2186461268?profile=original
ATTENDEE;ROLE=REQ-PARTICIPANT;PARTSTAT=ACCEPTED;RSVP=TRUE;CN=Karen:htt
 p://neighborsforneighbors.org/profile/Karen
END:VEVENT
END:VCALENDAR
