BEGIN:VCALENDAR
PRODID:NingEventWidget-v1
VERSION:2.0
METHOD:PUBLISH
BEGIN:VEVENT
UID:1171189:Event:77054
DTSTAMP:20260421T182232Z
SUMMARY:Summer Nights Out - Hyde Square Task Force
DESCRIPTION:Summer Nights Out! 6-8 PM, July 20 in front of Blessed Sac
 rament Church in Hyde Square, Jamaica Plain (365 Centre Street). Join 
 your neighbors and make new friends - fun children's literacy activiti
 es, health information, free Latin dance lessons, free community ZUMBA
  class, refreshments, food vendors and music!\nOther Summer Nights Out
  will be Wednesdays - July  27, August 3 and 10.\n\n\nFor more inform
 ation visit http://neighborsforneighbors.org/events/summer-nights-out-
 hyde-square
DTSTART:20110720T220000Z
DTEND:20110721T000000Z
CATEGORIES:free, summer, event
LOCATION:Blessed Sacrament Church
WEBSITE:http://www.hydesquare.org
URL:http://www.hydesquare.org
CONTACT:617-524-8303
ORGANIZER:Hyde Square Task Force
ATTACH;FMTTYPE="image/jpeg":http://storage.ning.com/topology/rest/1.0/
 file/get/2186461268?profile=original
ATTENDEE;ROLE=REQ-PARTICIPANT;PARTSTAT=ACCEPTED;RSVP=TRUE;CN=Karen:htt
 p://neighborsforneighbors.org/profile/Karen
END:VEVENT
END:VCALENDAR
