BEGIN:VCALENDAR
PRODID:NingEventWidget-v1
VERSION:2.0
METHOD:PUBLISH
BEGIN:VEVENT
UID:1171189:Event:60068
DTSTAMP:20260421T214926Z
SUMMARY:Summer of Aden, Ethan Robbins & Cold Chocolate, O deer
DESCRIPTION:Live bluegrass, folk and funk music.\n \n\nFor more inform
 ation visit http://neighborsforneighbors.org/events/summer-of-aden-eth
 an-robbins
DTSTART:20101231T020000Z
DTEND:20101231T060000Z
CATEGORIES:live, concert
LOCATION:Milky Way Lounge
WEBSITE:http://www.milkywayjp.com
URL:http://www.milkywayjp.com
CONTACT:617-524-3740
ORGANIZER;CN="Carol Downs":http://neighborsforneighbors.org/profile/Ca
 rolDowns
ATTACH;FMTTYPE="image/jpeg":http://storage.ning.com/topology/rest/1.0/
 file/get/2245131694?profile=original
ATTENDEE;ROLE=REQ-PARTICIPANT;PARTSTAT=ACCEPTED;RSVP=TRUE;CN="Carol Do
 wns":http://neighborsforneighbors.org/profile/CarolDowns
END:VEVENT
END:VCALENDAR
