BEGIN:VCALENDAR
PRODID:NingEventWidget-v1
VERSION:2.0
METHOD:PUBLISH
BEGIN:VEVENT
UID:1171189:Event:77453
DTSTAMP:20260421T232305Z
SUMMARY:Sundae Roll - evening bike cruise
DESCRIPTION:Meet your fellow bikin' and cyclin' neighbors for a weekly
  evening cruise around JP, taking advantage of the cool temps and quie
 t streets! Bring your mountain, commuter, cargo, tandem, tall, short, 
 chopper, mixte, fixie, road, or cross bike. We don't care, as long as 
 it's in good repair and you've got a front and rear light; slap a bell
  on for extra credit and fun. You can find lights and bells at Bikes N
 ot Bombs or Ferris Wheels; if your bike needs a little TLC, talk to ei
 ther shop ASAP, or the folks at Community Spoke if money's tight.We're
  going to wander around the back streets of JP for a while, and then g
 et ice cream at JP Licks! This is not a 'critical mass' or protest rid
 e: we'll follow the traffic rules (we stop for red lights and pedestri
 ans in crosswalks, for example.)If it's a success, we'll do it again t
 he next week, and the week after that...Our goals:-socialize and catch
  up by slowin' down-encourage the people in our lives to use their bik
 es more, if only for a goofy ride (bring a friend, lover, neighbor, co
 worker, date, roommate...)-meet your neighbors! You know, those people
  that live near you!-make new friends (and more?)-find people to ride 
 with-rant and rave about bikin' and cyclin' in the areaLittle ones are
  welcome as long as they're in seats, trailers, trail-a-longs, cargo b
 ikes, etc. with you.Please come helmeted, and we humbly suggest water 
 and moolah for frozen concoctions. Cameras are good too!Note on the st
 arting time: we're aiming for early enough that we won't spoil bedtime
 s for those with early mornings, but not so early that we won't interf
 ere with dinner plans and whatnot. We can discuss this more after the 
 ride!\n \nRSVPs are helpful to gauge how many people we should expect
 ;\nJP Bikes is on Facebook: http://www.facebook.com/pages/JP-Bikes/104
 903586257964\n...and ning: http://jpbikes.ning.com\n \n\nFor more inf
 ormation visit http://neighborsforneighbors.org/events/sundae-roll-eve
 ning-bike
DTSTART:20110725T000000Z
DTEND:20110725T020000Z
CATEGORIES:bike, ride
LOCATION:The Monument
WEBSITE:http://maps.google.com/maps?q=soldiers+monument,+jamaica+plain
 ,+ma&z=19
URL:http://maps.google.com/maps?q=soldiers+monument,+jamaica+plain,+ma
 &z=19
CONTACT:
ORGANIZER:JP Bikes
ATTACH;FMTTYPE="image/jpeg":http://storage.ning.com/topology/rest/1.0/
 file/get/2245134685?profile=original
ATTENDEE;ROLE=REQ-PARTICIPANT;PARTSTAT=ACCEPTED;RSVP=TRUE;CN=Brett:htt
 p://neighborsforneighbors.org/profile/Brett
END:VEVENT
END:VCALENDAR
