BEGIN:VCALENDAR
PRODID:NingEventWidget-v1
VERSION:2.0
METHOD:PUBLISH
BEGIN:VEVENT
UID:1171189:Event:71205
DTSTAMP:20260421T214909Z
SUMMARY:Sunday Afternoon at the 'Greenough House Parlor Concert Series
DESCRIPTION:Latin American and Mexican Classical GuitarRenown Classica
 l Guitarists Zaira Meneses and Domagoj Miskovic present a program of L
 atin American and Mexican music as the finale of the 11th season of th
 e Sunday Afternoon at the Greenough house parlor concert series, May 1
 , 2011, at 3:00 p.m. at the Loring-Greenough House, 12 South Street, J
 amaica Plain. Afternoon tea follows the program.            
      Tickets at the door: $15 ($10 seniors, students). Reservation
 s suggested— 617-524-3158 or lghouseconcerts@aim.com.For more inf
 ormation see zairameneses.com or loring-greenough.org\n\nFor more i
 nformation visit http://neighborsforneighbors.org/events/sunday-aftern
 oon-at-the
DTSTART:20110501T190000Z
DTEND:20110501T200000Z
CATEGORIES:concert
LOCATION:Jamaica Plain
WEBSITE:http://www.loring-greenough.org
URL:http://www.loring-greenough.org
CONTACT:
ORGANIZER;CN="Frances Harrell":http://neighborsforneighbors.org/profil
 e/FrancesHarrell
ATTACH;FMTTYPE="image/jpeg":http://storage.ning.com/topology/rest/1.0/
 file/get/2245139411?profile=original
ATTENDEE;ROLE=REQ-PARTICIPANT;PARTSTAT=ACCEPTED;RSVP=TRUE;CN="Frances 
 Harrell":http://neighborsforneighbors.org/profile/FrancesHarrell
END:VEVENT
END:VCALENDAR
