BEGIN:VCALENDAR
PRODID:NingEventWidget-v1
VERSION:2.0
METHOD:PUBLISH
BEGIN:VEVENT
UID:1171189:Event:36382
DTSTAMP:20260421T200231Z
SUMMARY:Sunday Night Jazz Series Rajdulari Barnes 10pm Free
DESCRIPTION:ALCHEMIST\n\n2/28/2010 10:00 PM at Sunday Night Jazz Serie
 s Rajdulari Barnes\nCost: Always Free\n\nAbout Rajdulari The lead voic
 e for so many of New England’s eclectic world, jazz and funk groups,
  Rajdulari hails from Boston and is a ten year veteran of the local pe
 rformance scene. Her past performance credits include such venues as J
 azz clubs Regattabar, Ryles, Scullers, along with many performances at
  the Emerson Majestic Theater, Saunders Theater, Boston’s Hynes Conv
 ention Center, The Isabella Stuart Gardner Museum, Agassiz Theater, an
 d The Mayor’s Summer Jazz Concert Series. She has worked with compos
 ers Walter Robinson, David Zoffer, (New England Conservatory (NEC), Ch
 air of Continuing Education Department) James Stewardson (Guitar facul
 ty @ Rivers Music School, NEC Prep/SCE Jazz & Fresh Sounds recording a
 rtist) and is featured on many compilations along such performers as a
 ward winning pianist George W. Russell. She is currently performing as
  a member of the 8-piece, all female world music band, Zili Misik, (wi
 nners of the ROCKRGRL/Berklee All Female Battle of the Bands competiti
 on),the David Zoffer Differential (a progressive rock/funk/jazz quarte
 t that has pioneered the flowtown style: Head Nodding Groove w/Charact
 er-Driven Lyrics that college kids & Funkateers dig, Quirky & Tight vi
 rtuosos w/lush harmony for Jazz fans & Proggers, Vulnerable Humor & So
 phisticated Pop), and LiveWire, Boston’s best local Party Band (w/Je
 nny Moriarty ..s, Geoff Keith on Bass and Tom Kaiser on guitar). Her t
 v credits include \"Fernando’s Hideaway-BNN\" (w/Zili Misik), \"CCTV
 - Cambridge Community Television\" (w/Zili Misik), \"Boston TV Magazin
 e-Chronicle- Berklee College of Music\". The David Zoffer Differential
 ’s debut album, \"Release\" was top 10 and 20 on many college jazz r
 adio stations and is promoted by Ariel Publishing. (for more informati
 on about the DZD, visit myspace.com/davidzoffer) Zili Misik’s Debut 
 Album \"New World Soul\" is in stores now and available at zilimisik.c
 om (for more information about Zili Misik, visit myspace.com/zilimisik
 ) Education... Rajdulari attended the New England Conservatory’s Jaz
 z Continuing Education program and Berklee College of Music.\nOfficial
  Site: http://www.myspace.com/alchemistlou...\n\nFor more information 
 visit http://neighborsforneighbors.org/events/sunday-night-jazz-series
DTSTART:20100301T030000Z
DTEND:20100301T060000Z
CATEGORIES:jazz, and, blues
LOCATION:The Alchemist
WEBSITE:http://alchemistlounge.com
URL:http://alchemistlounge.com
CONTACT:617-477-5741
ORGANIZER;CN=Lyndon:http://neighborsforneighbors.org/profile/Lyndon
ATTACH;FMTTYPE="image/jpeg":http://storage.ning.com/topology/rest/1.0/
 file/get/2245122320?profile=original
ATTENDEE;ROLE=REQ-PARTICIPANT;PARTSTAT=ACCEPTED;RSVP=TRUE;CN=Lyndon:ht
 tp://neighborsforneighbors.org/profile/Lyndon
END:VEVENT
END:VCALENDAR
