BEGIN:VCALENDAR
PRODID:NingEventWidget-v1
VERSION:2.0
METHOD:PUBLISH
BEGIN:VEVENT
UID:1171189:Event:64802
DTSTAMP:20260421T170132Z
SUMMARY:Superbowl Party Fundraiser for NFN at Canary Square
DESCRIPTION:Neighbors, \nJoin us at Canary Square for the super-fun a
 nd rowdy Neighbors for Neighbors Super Bowl Party. Watch the super bow
 l with your neighbors and friends and enjoy great food and drink. \nP
 lace your bets on which team will win on the \"Canary Squares.\" For e
 ach bet placed, $5 will be donated to Neighbors for Neighbors (we need
  the cash). Winners will get a generous gift card to Canary Square. \
 n\nFor more information visit http://neighborsforneighbors.org/events/
 superbowl-party-fundraiser-for
DTSTART:20110206T230000Z
DTEND:20110207T020000Z
CATEGORIES:party, fundariaser
LOCATION:Canary Square
WEBSITE:http://www.facebook.com/profile.php?id=100001022503351&ref=ts
URL:http://www.facebook.com/profile.php?id=100001022503351&ref=ts
CONTACT:857-222-4420
ORGANIZER;CN="Joseph Porcelli (Chief Neighbor)":http://neighborsfornei
 ghbors.org/profile/josephporcelli
ATTACH;FMTTYPE="image/jpeg":http://storage.ning.com/topology/rest/1.0/
 file/get/2245132327?profile=original
ATTENDEE;ROLE=REQ-PARTICIPANT;PARTSTAT=ACCEPTED;RSVP=TRUE;CN="Mahendra
 n Radhakrishnan":http://neighborsforneighbors.org/profile/MahendranRad
 hakrishnan
ATTENDEE;ROLE=REQ-PARTICIPANT;PARTSTAT=ACCEPTED;RSVP=TRUE;CN="Steffani
  Bennett":http://neighborsforneighbors.org/profile/SteffaniBennett
ATTENDEE;ROLE=REQ-PARTICIPANT;PARTSTAT=ACCEPTED;RSVP=TRUE;CN="Joseph P
 orcelli (Chief Neighbor)":http://neighborsforneighbors.org/profile/jos
 ephporcelli
ATTENDEE;ROLE=REQ-PARTICIPANT;PARTSTAT=TENTATIVE;RSVP=TRUE;CN="Lianna 
 Roswell":http://neighborsforneighbors.org/profile/LiannaMBurton
ATTENDEE;ROLE=REQ-PARTICIPANT;PARTSTAT=TENTATIVE;RSVP=TRUE;CN="Jessica
  LaPointe":http://neighborsforneighbors.org/profile/JessicaLaPointe
ATTENDEE;ROLE=REQ-PARTICIPANT;PARTSTAT=TENTATIVE;RSVP=TRUE;CN="Torie R
 eed":http://neighborsforneighbors.org/profile/TorieReed
ATTENDEE;ROLE=REQ-PARTICIPANT;PARTSTAT=TENTATIVE;RSVP=TRUE;CN="Abby Mu
 rphy":http://neighborsforneighbors.org/profile/AbbyMurphy
ATTENDEE;ROLE=REQ-PARTICIPANT;PARTSTAT=TENTATIVE;RSVP=TRUE;CN="Sheila 
 McGarey":http://neighborsforneighbors.org/profile/SheilaMcGarey
ATTENDEE;ROLE=REQ-PARTICIPANT;PARTSTAT=TENTATIVE;RSVP=TRUE;CN=Jenny:ht
 tp://neighborsforneighbors.org/profile/Jenny41
ATTENDEE;ROLE=REQ-PARTICIPANT;PARTSTAT=TENTATIVE;RSVP=TRUE;CN=Kristi:h
 ttp://neighborsforneighbors.org/profile/Kristi
END:VEVENT
END:VCALENDAR
