BEGIN:VCALENDAR
PRODID:NingEventWidget-v1
VERSION:2.0
METHOD:PUBLISH
BEGIN:VEVENT
UID:1171189:Event:80226
DTSTAMP:20260421T182419Z
SUMMARY:TAG SALE and LEMONDADE STAND
DESCRIPTION:Tag sale AND lemonade/homemade cookie stand this Saturday,
  9/3, from 9:00-1:00. Please stop by and say hello, buy something, or 
 support our daughters' lemonade stand!\n\nFor more information visit h
 ttp://neighborsforneighbors.org/events/tag-sale-and-lemondade-stand
DTSTART:20110903T130000Z
DTEND:20110903T170000Z
CATEGORIES:tag, sale
LOCATION:52 Paul Gore Street
WEBSITE:
URL:
CONTACT:
ORGANIZER;CN=Jonathan:http://neighborsforneighbors.org/profile/Jonatha
 n
ATTACH;FMTTYPE="image/jpeg":
ATTENDEE;ROLE=REQ-PARTICIPANT;PARTSTAT=ACCEPTED;RSVP=TRUE;CN=Jonathan:
 http://neighborsforneighbors.org/profile/Jonathan
END:VEVENT
END:VCALENDAR
