BEGIN:VCALENDAR
PRODID:NingEventWidget-v1
VERSION:2.0
METHOD:PUBLISH
BEGIN:VEVENT
UID:1171189:Event:86490
DTSTAMP:20260421T220757Z
SUMMARY:Take Back Frankin Park - Thursday 12/1/11 5:30pm
DESCRIPTION:\n\n Dear Franklin Park Friends, \n\nMost of you have he
 ard about the terrible attack that happened in our park yesterday at 1
 :30 in the afternoon on one of the paths near Scarboro Pond. A woman w
 as walking with a child in a carriage when a man approached from behin
 d, pulled her off the path and attempted to sexually molest and strang
 le her. Her screams alerted nearby golfers and the attacker ran from t
 he scene when the golfers arrived. Luckily she is not seriously hurt, 
 but her emotional distress will not be  easily forgotten. There has b
 een nothing like this for the last ten years; Boston Police say Frankl
 in Park is one of the safest in the city.  As Franklin Park advocates
  we cannot ignore the incident. A woman and a park were violated. Plea
 se join me and Franklin Park Coalition board and members on Thursday e
 vening for a walk around the golf course loop path. We will walk toget
 her in support and safety to witness the beauty and peace of the park,
  even in the dark, and work to overcome the fear that comes from knowl
 edge of an attack like this. Meet at the Golf Clubhouse at 5:30 on Th
 ursday evenTaing, December 1st, bring flashlights to light up the nigh
 t. Women with strollers are most welcome - we will surround and protec
 t you. Our thoughts and prayers go out to the woman who was attacked,
  please join us Thursday night and spread the word to your neighbors, 
 friends and fellow park users. Christine PoffFPC Director  For more 
 information or directions please email: mail@franklinparkcoalition.org
  or call 617-442-4141.\nDay of event phone: 617-908-4002. Contact Info
 rmationPhone: (617) 442-4141Mailing Address: P.O. Box 302333, Boston, 
 MA 02130   \n\n\n\n\n\n\n\n\n\n\n\n\n\n\n\n\n\n\n\n\n\n\n\nFor more 
 information visit http://neighborsforneighbors.org/events/take-back-fr
 ankin-park-thursday-12-1-11-5-30pm
DTSTART:20111201T223000Z
DTEND:20111202T000000Z
CATEGORIES:meeting
LOCATION:Franklin Park
WEBSITE:
URL:
CONTACT:
ORGANIZER:Franklin Park Coalition
ATTACH;FMTTYPE="image/jpeg":
ATTENDEE;ROLE=REQ-PARTICIPANT;PARTSTAT=ACCEPTED;RSVP=TRUE;CN="Janis Li
 ppman":http://neighborsforneighbors.org/profile/JanisLippman
END:VEVENT
END:VCALENDAR
