BEGIN:VCALENDAR
PRODID:NingEventWidget-v1
VERSION:2.0
METHOD:PUBLISH
BEGIN:VEVENT
UID:1171189:Event:42905
DTSTAMP:20260421T172024Z
SUMMARY:Take Off Your Clothes Boston
DESCRIPTION:=== A Clothing Swap With a Twist ===\n\nIt’s time to get
  excited Boston! The first ever “Take Off Your Clothes” event is h
 itting our city for TWO DAYS in June.\n\nThis event is not to be misse
 d! Take the opportunity to clean out your closets, and enjoy an evenin
 g of music, entertainment and eco-friendly fashion at 500 Harrison Ave
  in Boston’s SoWa District. Thanks to SoWa Sundays for donating the 
 use of the space! [http://www.sowasundays.com/].\n\n=== DETAILS ===\n\
 nDates – June 5th and June 6th\nTime – 5:00pm to 10:00pm (Saturday
 ); 11:00am to 4:00pm (Sunday)\nLocation – 500 Harrison Ave, Boston (
 thanks to SoWa Sundays!)\n\n***FREE PARKING BOTH DAYS!****\n\nEnjoy th
 e musical stylings of:\n♫ DJ Steven Carter\n♫ DJ Rich Chwastiak\n
  DJ Joshua Langberg\n♫ MORE to be announced!\n\nAdmission - $8.00\
 nSAVE TIME AT THE DOOR - buy your ticket in advance on Eventbrite!\n[h
 ttp://takeoffyourclothesboston.eventbrite.com]\n\n=== Here’s the Con
 cept ===\n\n1 swappable item will get you 1 ticket to use in “the sw
 appers boutique” (as long as it qualifies – meaning clean, undamag
 ed clothing/accessories)*. Items deemed unswappable, along with all cl
 othing remaining at the end of the event, will be donated to Boomerang
 s [www.shopboomerangs.org], benefitting The AIDS Action Committee of M
 assachusetts. [http://www.aac.org]\n\n=== Take advantage of Priority C
 heck-in! ===\n\nWe’ll pick up your clothes in advance of the event, 
 or you can drop your clothes off at our drop-off location.\n\nTo arran
 ge for a pick-up or drop off, send an email to:\nclothingpickups-BOS@t
 heswapteam.org\n\nTo make things easier for us, we ask that you label 
 your bags with your name, contact info and # of items inside.\n\n* You
  will receive your exchange tickets with paid admission at the door of
  our June 5/6 event. Admission is good for BOTH days. Why not come Sat
 urday and return on Sunday to see what’s new?\n\nGeneral questions c
 an be directed to: sarah@theswapteam.org\n\n--------------------------
 ----------------------------------------------------------------------
 -------------------------\n\nWe do NOT issue exchange tickets for: bat
 hrobes, pajamas, underwear, lingerie, swimwear, tank tops, socks, or s
 tockings. Likewise, we do not issue exchange tickets for ripped, faded
 , torn, stained, scratched, dirty, frayed, missing buttons, broken zip
 pers or otherwise worn/damaged items. Items received that fail to meet
  these standards will be donated directly to Boomerangs.\n\n----------
 ----------------------------------------------------------------------
 -----------------------------------------\n\nTo stay up-to-date on all
  clothing pick-up announcements, join the S.W.A.P. team group!\nhttp:/
 /www.facebook.com/TheSWAPTeam\n\n-------------------------------------
 ------------------\n--------------------------------------------------
 --------------\n\n=== About the S.W.A.P. team ===\nThe S.W.A.P. Team i
 s a non-profit social enterprise with an international presence. Throu
 gh its clothing swap event Take Off Your Clothes, the group endeavors 
 to promote sharing as an antidote to overconsumption while increasing 
 awareness of conscious consumerism and providing clothing for charitie
 s to distribute to those in need. [http://www.theswapteam.org]\n\n----
 ----------------------------------------------------------------------
 -----------------------------------------------\n\nFor more informatio
 n visit http://neighborsforneighbors.org/events/take-off-your-clothes-
 boston
DTSTART:20100605T210000Z
DTEND:20100606T200000Z
CATEGORIES:fundraiser
LOCATION:SoWa
WEBSITE:http://<iframe width=\"425\" height=\"350\" frameborder=\"0\" 
 scrolling=\"no\" marginheight=\"0\" marginwidth=\"0\" src=\"http://map
 s.google.com/maps?f=q&amp;source=s_q&amp;hl=en&amp;geocode=&amp;q=500+
 harrison+ave+boston+ma&amp;sll=37.0625,-95.677068&amp;sspn=22.511228,4
 7.197266&amp;ie=UTF8&amp;hq=&amp;hnear=500+Harrison+Ave,+Boston,+Suffo
 lk,+Massachusetts+02118&amp;ll=42.350806,-71.061201&amp;spn=0.010213,0
 .023046&amp;z=14&amp;iwloc=A&amp;output=embed\"></iframe><br /><small>
 <a href=\"http://maps.google.com/maps?f=
URL:http://<iframe width=\"425\" height=\"350\" frameborder=\"0\" scro
 lling=\"no\" marginheight=\"0\" marginwidth=\"0\" src=\"http://maps.go
 ogle.com/maps?f=q&amp;source=s_q&amp;hl=en&amp;geocode=&amp;q=500+harr
 ison+ave+boston+ma&amp;sll=37.0625,-95.677068&amp;sspn=22.511228,47.19
 7266&amp;ie=UTF8&amp;hq=&amp;hnear=500+Harrison+Ave,+Boston,+Suffolk,+
 Massachusetts+02118&amp;ll=42.350806,-71.061201&amp;spn=0.010213,0.023
 046&amp;z=14&amp;iwloc=A&amp;output=embed\"></iframe><br /><small><a h
 ref=\"http://maps.google.com/maps?f=
CONTACT:
ORGANIZER;CN="Sarah Martin Hawkins":http://neighborsforneighbors.org/p
 rofile/SarahMartin
ATTACH;FMTTYPE="image/jpeg":http://storage.ning.com/topology/rest/1.0/
 file/get/2245128163?profile=original
ATTENDEE;ROLE=REQ-PARTICIPANT;PARTSTAT=ACCEPTED;RSVP=TRUE;CN="Sarah Ma
 rtin Hawkins":http://neighborsforneighbors.org/profile/SarahMartin
END:VEVENT
END:VCALENDAR
