BEGIN:VCALENDAR
PRODID:NingEventWidget-v1
VERSION:2.0
METHOD:PUBLISH
BEGIN:VEVENT
UID:1171189:Event:39072
DTSTAMP:20260422T010823Z
SUMMARY:Teddy Bear Picnic
DESCRIPTION:\n\nFor more information visit http://neighborsforneighbor
 s.org/events/teddy-bear-picnic
DTSTART:20100515T140000Z
DTEND:20100515T160000Z
CATEGORIES:"children's", picnic, and, play
LOCATION:Eliot School Yard
WEBSITE:http://teddybearpicnic.eventbrite.com
URL:http://teddybearpicnic.eventbrite.com
CONTACT:617-293-8004
ORGANIZER;CN="Robin Maxfield":http://neighborsforneighbors.org/profile
 /RobinMaxfield800
ATTACH;FMTTYPE="image/jpeg":http://storage.ning.com/topology/rest/1.0/
 file/get/2245125891?profile=original
ATTENDEE;ROLE=REQ-PARTICIPANT;PARTSTAT=ACCEPTED;RSVP=TRUE;CN="Robin Ma
 xfield":http://neighborsforneighbors.org/profile/RobinMaxfield800
END:VEVENT
END:VCALENDAR
