BEGIN:VCALENDAR
PRODID:NingEventWidget-v1
VERSION:2.0
METHOD:PUBLISH
BEGIN:VEVENT
UID:1171189:Event:88693
DTSTAMP:20260421T174213Z
SUMMARY:Temple Hillel Bnai Torah Purim Carnival
DESCRIPTION:Celebrate the upside down holiday of Purim with a family c
 entered Purim Carnival. Costume parade, games and prizes, music, face 
 painting, cake walk, moon walk, make your own hamantashen and more. Pi
 zza and drinks also served. Game tickets are 10 for $5, 20 for $8 and 
 extra ticket if you come in costome.\nTemple Hillel Bnai Torah is a Re
 constructionist community with progressive values.\n\nFor more informa
 tion visit http://neighborsforneighbors.org/events/temple-hillel-bnai-
 torah-purim-carnival
DTSTART:20120304T170000Z
DTEND:20120304T190000Z
CATEGORIES:carnival, fair
LOCATION:Temple Hillel Bnai Torah
WEBSITE:http://www.templehbt.org
URL:http://www.templehbt.org
CONTACT:617-323-0486
ORGANIZER;CN="Julie Tishler":http://neighborsforneighbors.org/profile/
 JulieTishler
ATTACH;FMTTYPE="image/jpeg":
ATTENDEE;ROLE=REQ-PARTICIPANT;PARTSTAT=ACCEPTED;RSVP=TRUE;CN="Julie Ti
 shler":http://neighborsforneighbors.org/profile/JulieTishler
END:VEVENT
END:VCALENDAR
