BEGIN:VCALENDAR
PRODID:NingEventWidget-v1
VERSION:2.0
METHOD:PUBLISH
BEGIN:VEVENT
UID:1171189:Event:92476
DTSTAMP:20260421T214536Z
SUMMARY:Thanksgiving Dinner
DESCRIPTION:Thanksgiving Dinner this Saturday,\nNov17th at 6:00 pm\nA
 ll you can eat!! Turkey, cranberries, stuffing, gravy, vegetables, des
 serts, cider. Get your tickets at the door at 5:30\n$40 family $15 ad
 ults $10 children (12 to 17)\n$5 children (6 to 11) $5 seniors    
  \n\nFor more information visit http://neighborsforneighbors.org/even
 ts/thanksgiving-dinner
DTSTART:20121117T230000Z
DTEND:20121118T010000Z
CATEGORIES:community, event
LOCATION:First Parish Church in Dorchester
WEBSITE:http://www.firstparishdorchester.org
URL:http://www.firstparishdorchester.org
CONTACT:857-265-5982
ORGANIZER:Harry Holmberg
ATTACH;FMTTYPE="image/jpeg":
ATTENDEE;ROLE=REQ-PARTICIPANT;PARTSTAT=ACCEPTED;RSVP=TRUE;CN="Douglas 
 Shaheen":http://neighborsforneighbors.org/profile/DouglasShaheen
END:VEVENT
END:VCALENDAR
