BEGIN:VCALENDAR
PRODID:NingEventWidget-v1
VERSION:2.0
METHOD:PUBLISH
BEGIN:VEVENT
UID:1171189:Event:38902
DTSTAMP:20260421T200415Z
SUMMARY:The Carnivore's Dilemma: How To Eat Meat Responsibly
DESCRIPTION:Speakers: Speakers: Kim Denney, owner/operator of Chestnut
  Farm Meat CSA, cattle farmer Ridge Shinn, author and local food activ
 ist Jamey Lionette\n\nAll-natural. Organic. Free-range. Grass-fed. Are
  you a conscientious meat-eater trying to navigate this new terrain of
  labels and concerns? Are you wondering whether it's safe and sustaina
 ble to eat meat at all? Bring your questions to a discussion with thre
 e experts in small-scale meat production -- and learn about how you ca
 n eat meat responsibly.\n\nCo-sponsored by BostonLocalvores.org.\n\nFo
 r more information visit http://neighborsforneighbors.org/events/the-c
 arnivores-dilemma-how-to
DTSTART:20100331T230000Z
DTEND:20100401T010000Z
CATEGORIES:discussion
LOCATION:First Church in Jamaica Plain UU, 6 Eliot Street (Across from
  the monument)
WEBSITE:
URL:
CONTACT:
ORGANIZER;CN="Liz W.":http://neighborsforneighbors.org/profile/LizW
ATTACH;FMTTYPE="image/jpeg":http://storage.ning.com/topology/rest/1.0/
 file/get/2245128750?profile=original
ATTENDEE;ROLE=REQ-PARTICIPANT;PARTSTAT=ACCEPTED;RSVP=TRUE;CN="Liz W.":
 http://neighborsforneighbors.org/profile/LizW
END:VEVENT
END:VCALENDAR
