BEGIN:VCALENDAR
PRODID:NingEventWidget-v1
VERSION:2.0
METHOD:PUBLISH
BEGIN:VEVENT
UID:1171189:Event:34933
DTSTAMP:20260421T185833Z
SUMMARY:The Erinn Brown Group
DESCRIPTION:ALCHEMIST\n\n2/11/2010 10:30 PM at Erinn Brown\n435 South 
 Huntington Avenue, Jamaica Plain, Massachusetts 02130\nCost: Always Fr
 ee\n\nBIO.. little more informative.... just a regular ’normal’ Bi
 o:--------------------------------------------------------------------
 --------------------- Erinn Brown, the versatile singer/songwriter, ha
 s an original style. With a Soulful, Blues/Rock feel, Brown’s songs 
 reflect truth and strength. After graduating Berklee College of Music,
  Brown sang for rock cover bands while writing her own material. Hunte
 r’s Moon, an acoustic trio of songwriters established in 1997, helpe
 d Erinn develop her interpretive style in singing both cover and origi
 nal songs. Erinn Brown’s debut album, ROAD SIGNS TO THE SUN, was rel
 eased in April 1999. She performed for The Marblehead Festival For The
  Arts and The Annual Taste of The North Shore at Winter Island in Sale
 m, Massachusetts which attracted crowds of music fans. Other North Sho
 re venues included, The Blackburn Tavern & The Rhumbline in Gloucester
 ; Deacon Giles, The Red Room, Dodge Street Bar & Grill and In A Pig’
 s Eye in Salem; and Kitty O’Sheas, The Pickled Onion and The Mandrak
 e Bistro in Beverly. Erinn Brown has performed in Boston/Cambridge are
 a venues such as Toad, The Kirkland Café, The Abbey Lounge, The Burre
 n, The Barking Crab, Tommy Doyles(The Loft) and Sculler’s. \"2N\" re
 leased her second album, DON’T FORGET ABOUT IT, in June ’08. The E
 rinn Brown Band performed for the Salem Jazz and Soul Festival in Sale
 m ’07 and in 2008 at The Marblehead Festival For The Arts, The Harbo
 r Loop Concert Series in Gloucester and Boston Music Festival. Brown w
 as chosen for ’Doug’s Top 3 Pick’ for February 2009 issue of Met
 ronome Magazine, with a cover story in March ’09. Newer venues inclu
 de, The Edgewater Cafe and Bankok Paradise in Salem, The Dogbar and Th
 e Blackburn Performing Arts Center in Gloucester, The Red Rock Bistro 
 in Swampscot, Sally OBrien’s and Bull McCabe’s in Somerville and e
 njoyed a set on the stage of Harper’s Ferry with her 4-piece group. 
 Brown’s first CD has received air play on the Emerson College radio 
 station, (WERS), in Boston, MA, (WMFO) in Somerville, MA, on the Endic
 ott College radio station,(WNSH), in Beverly, MA, Salem State College 
 radio, (WMWM), Martha’s Vinyard station, (MVYRadio.com) and on “Bl
 ues Power Hour” on a Portsmouth, NH radio station (WHEB). 2N’s new
  album is slowly making its way out to the listeners. (check out: www.
 cdbaby.com/erinnbrown2) ! Vocalist/Guitarist Erinn Brown is playing so
 lo, duo and trio or with a full band - from the top of Massachusetts t
 o the southern tip of New Jersey and in Arlington, Virginia and parts 
 of New Hampshire and Connecticut - soon to hit NYC. For More Informati
 on and Performances: www.ErinnBrown.com...............................
 ...................................\n\nFor more information visit http
 ://neighborsforneighbors.org/events/the-erinn-brown-group
DTSTART:20100212T033000Z
DTEND:20100212T060000Z
CATEGORIES:soul, blues, funk
LOCATION:The Alchemist Lounge
WEBSITE:http://alchemistlounge.com
URL:http://alchemistlounge.com
CONTACT:617-477-5741
ORGANIZER;CN=Lyndon:http://neighborsforneighbors.org/profile/Lyndon
ATTACH;FMTTYPE="image/jpeg":http://storage.ning.com/topology/rest/1.0/
 file/get/2245122763?profile=original
ATTENDEE;ROLE=REQ-PARTICIPANT;PARTSTAT=ACCEPTED;RSVP=TRUE;CN=Lyndon:ht
 tp://neighborsforneighbors.org/profile/Lyndon
END:VEVENT
END:VCALENDAR
