BEGIN:VCALENDAR
PRODID:NingEventWidget-v1
VERSION:2.0
METHOD:PUBLISH
BEGIN:VEVENT
UID:1171189:Event:68109
DTSTAMP:20260421T204110Z
SUMMARY:The Flying Scotsman at Bike Movie Night
DESCRIPTION:Get in the mood for the spring biking season! Ferris Wheel
 s Bike Shop and Boston City Councilor Matt O’ Malley bring you bike 
 movie nights at Agassiz Community Center. Tonight's move is The Flyi
 ng Scotsman, starring Jonny Lee Miller (2006). Based on the true story
  of Scottish cyclist Graeme Obree who, in 1993 as an unemployed amateu
 r, broke the world one-hour record on a bike of his own revolutionary 
 design, which he constructed out of scrap metal and parts of a washing
  machine. PG-13. This event is FREE. Popcorn and soda available. For i
 nformation, contact Ferris Wheels Bike Shop, 66 South Street, 617-524-
 BIKE, or Councilor O’ Malley’s office, 617-635-4220.\n\nFor more i
 nformation visit http://neighborsforneighbors.org/events/the-flying-sc
 otsman-at-bike
DTSTART:20110408T223000Z
DTEND:20110409T000000Z
CATEGORIES:"movie night"
LOCATION:Agassiz Community Center
WEBSITE:http://maps.google.com/maps?f=q&source=s_q&hl=en&geocode=&q=20
 +child+street,+jamaica+plain,+ma+02130&aq=&sll=37.0625,-95.677068&sspn
 =32.38984,78.662109&ie=UTF8&hq=&hnear=20+Child+St,+Massachusetts+02130
 &z=16
URL:http://maps.google.com/maps?f=q&source=s_q&hl=en&geocode=&q=20+chi
 ld+street,+jamaica+plain,+ma+02130&aq=&sll=37.0625,-95.677068&sspn=32.
 38984,78.662109&ie=UTF8&hq=&hnear=20+Child+St,+Massachusetts+02130&z=1
 6
CONTACT:617-524-2453
ORGANIZER:Ferris Wheels Bike Shop and Councilor Matt O'Malley
ATTACH;FMTTYPE="image/jpeg":http://storage.ning.com/topology/rest/1.0/
 file/get/2245132467?profile=original
ATTENDEE;ROLE=REQ-PARTICIPANT;PARTSTAT=ACCEPTED;RSVP=TRUE;CN="Ferris W
 heels Bike Shop":http://neighborsforneighbors.org/profile/FerrisWheels
 BikeShop
END:VEVENT
END:VCALENDAR
