BEGIN:VCALENDAR
PRODID:NingEventWidget-v1
VERSION:2.0
METHOD:PUBLISH
BEGIN:VEVENT
UID:1171189:Event:34927
DTSTAMP:20260421T203946Z
SUMMARY:The Gas 02/12/10
DESCRIPTION:Every week The Gas presents some of the best comedians fro
 m boston and beyond. This week we have to great comedians from New Yor
 k City,\n\nJames Parkinson\n&\nDaniel Carroll\n\nAs well as a great gr
 oup of Boston's comedy elite including,\n\nMatt D\nTim Vargulish\nBigg
  Nez\nDave Kennedy\nBlake Wexler\nSean Wilkinson\n\nFor more informati
 on visit http://neighborsforneighbors.org/events/the-gas-021210
DTSTART:20100213T001500Z
DTEND:20100213T023000Z
CATEGORIES:comedy, show
LOCATION:Great Scott Boston
WEBSITE:http://www.facebook.com/event.php?eid=286672313430&index=1
URL:http://www.facebook.com/event.php?eid=286672313430&index=1
CONTACT:617 459 2904 (Rob)
ORGANIZER;CN="Rob Crean":http://neighborsforneighbors.org/profile/RobC
 rean
ATTACH;FMTTYPE="image/jpeg":http://storage.ning.com/topology/rest/1.0/
 file/get/2245128449?profile=original
ATTENDEE;ROLE=REQ-PARTICIPANT;PARTSTAT=ACCEPTED;RSVP=TRUE;CN="Rob Crea
 n":http://neighborsforneighbors.org/profile/RobCrean
END:VEVENT
END:VCALENDAR
