BEGIN:VCALENDAR
PRODID:NingEventWidget-v1
VERSION:2.0
METHOD:PUBLISH
BEGIN:VEVENT
UID:1171189:Event:68561
DTSTAMP:20260421T184439Z
SUMMARY:The Pigment of Your Imagination: Life Between Black and White
DESCRIPTION:Joy Zarembka is executive director of the Institute for Po
 licy Studies and author of The Pigment of Your Imagination: Mixed Race
  in a Global Society (Madera Press). Does society or the individual de
 termine racial classification? By combining vivid anecdotes of her tra
 vels, historical background, and oral histories from mixed-race famili
 es, Joy Zarembka examines the notion of race and identity to better un
 derstand the vastly different interpretations of racial identity in di
 fferent parts of the world.Born to a Black mother and a White father i
 n the U.S., Joy reflects on crossing borders of race and nationality i
 n different countries including England, Kenya, Zimbabwe, Jamaica, and
  the U.S.  She’ll discuss the experience of being treated as white,
  brown, colored and different castes.\n\nFor more information visit ht
 tp://neighborsforneighbors.org/events/the-pigment-of-your
DTSTART:20110410T190000Z
DTEND:20110410T210000Z
CATEGORIES:discussion
LOCATION:First Church in Jamaica Plain UU, 6 Eliot Street (Across from
  the monument)
WEBSITE:
URL:
CONTACT:
ORGANIZER;CN="Liz W.":http://neighborsforneighbors.org/profile/LizW
ATTACH;FMTTYPE="image/jpeg":http://storage.ning.com/topology/rest/1.0/
 file/get/2245132518?profile=original
ATTENDEE;ROLE=REQ-PARTICIPANT;PARTSTAT=ACCEPTED;RSVP=TRUE;CN="Liz W.":
 http://neighborsforneighbors.org/profile/LizW
END:VEVENT
END:VCALENDAR
