BEGIN:VCALENDAR
PRODID:NingEventWidget-v1
VERSION:2.0
METHOD:PUBLISH
BEGIN:VEVENT
UID:1171189:Event:66387
DTSTAMP:20260421T164529Z
SUMMARY:the polaroid
DESCRIPTION:A group show featuring polaroid photography by a great mix
  of local artists...\n \nAriele Baragona\nRobin Halperin\nAshley Howa
 rd\nAaron McLaughlin\nLindsay Metivier\nMickey Murphy\nGwenn Patterson
 \nJohn Steck Jr.\n \nPlus, check out the grand opening of Aviary Gall
 ery!\n \nBoston's newest gallery opening its doors at 7pm. Just a few
  doors down from the hallway gallery. \n \nHope you can make it out!
 \n \n\nFor more information visit http://neighborsforneighbors.org/ev
 ents/the-polaroid
DTSTART:20110303T230000Z
DTEND:20110304T020000Z
CATEGORIES:art, opening
LOCATION:the hallway gallery
WEBSITE:http://www.thehallwayjp.com
URL:http://www.thehallwayjp.com
CONTACT:617-818-5996
ORGANIZER;CN="Brent Refsland":http://neighborsforneighbors.org/profile
 /BrentRefsland
ATTACH;FMTTYPE="image/jpeg":http://storage.ning.com/topology/rest/1.0/
 file/get/2245131867?profile=original
ATTENDEE;ROLE=REQ-PARTICIPANT;PARTSTAT=ACCEPTED;RSVP=TRUE;CN="Kristen 
 Valachovic":http://neighborsforneighbors.org/profile/Kristen_V
ATTENDEE;ROLE=REQ-PARTICIPANT;PARTSTAT=ACCEPTED;RSVP=TRUE;CN="Brent Re
 fsland":http://neighborsforneighbors.org/profile/BrentRefsland
END:VEVENT
END:VCALENDAR
