BEGIN:VCALENDAR
PRODID:NingEventWidget-v1
VERSION:2.0
METHOD:PUBLISH
BEGIN:VEVENT
UID:1171189:Event:72066
DTSTAMP:20260421T221414Z
SUMMARY:The Secret Lives of Honey Bees
DESCRIPTION:The Secret Lives of Honey Bees\nHeather Mattila, Assistant
  Professor, Biological Sciences, Wellesley College1 Session: Tue May 1
 0, 7:00–8:30pmLocation: Hunnewell BuildingJP resident Heather Mattil
 a studies the social organization and the communication systems of hon
 ey bees. She will explain the different kinds of bees that are found i
 n hives, their roles, and the means by which honey bees communicate. S
 he will also touch on some of the challenges that are facing pollinato
 r populations today.\nhttps://my.arboretum.harvard.edu/Info.aspx?DayPl
 anner=65&DayPlannerDate=5/10/2011Fee $10 Arboretum member, $15 nonmemb
 erOffered with Wellesley College Friends of Horticulture\n\nFor more i
 nformation visit http://neighborsforneighbors.org/events/the-secret-li
 ves-of-honey-bees
DTSTART:20110510T230000Z
DTEND:20110511T003000Z
CATEGORIES:lecture
LOCATION:The Arnold Arboretum, Hunnewell Building
WEBSITE:http://arboretum.harvard.edu
URL:http://arboretum.harvard.edu
CONTACT:617-384-5277
ORGANIZER;CN="Pam Thompson":http://neighborsforneighbors.org/profile/P
 amThompson
ATTACH;FMTTYPE="image/jpeg":http://storage.ning.com/topology/rest/1.0/
 file/get/2245133333?profile=original
ATTENDEE;ROLE=REQ-PARTICIPANT;PARTSTAT=ACCEPTED;RSVP=TRUE;CN="Pam Thom
 pson":http://neighborsforneighbors.org/profile/PamThompson
END:VEVENT
END:VCALENDAR
