BEGIN:VCALENDAR
PRODID:NingEventWidget-v1
VERSION:2.0
METHOD:PUBLISH
BEGIN:VEVENT
UID:1171189:Event:34922
DTSTAMP:20260421T172435Z
SUMMARY:\"The Soul of Food\" at Sunday Night aLive
DESCRIPTION:There have been lots of books and films lately addressing 
 the nature and origins of our food. These have sparked a national conv
 ersation about the importance of understanding where our food comes fr
 om and how it gets to our plates. People are talking about ethical tre
 atment of the animals we eat, providing just wages for the farmers who
  grow our food, eating locally and living sustainably. There’s conce
 rn about genetically modified food, the climate crisis, our ability to
  feed ourselves, and the safety of food processing plants.\n\nBut what
  of the soul? For eating supports not only our physical survival, but 
 it also feeds our soul by connecting us to the earth and to each other
 . Much is lost when we are disconnected from that which gives us life.
  We eat mindlessly, unaware of what’s really on our plate and of all
  the beings responsible for bringing it to us. This month, at Sunday N
 ight aLive, we explore the Soul of Food, through song, ritual, and sha
 ring. We’ll even have an opportunity to practice what we learn throu
 gh the act of eating dinner following the service!\n\nFor more informa
 tion visit http://neighborsforneighbors.org/events/the-soul-of-food-at
 -sunday
DTSTART:20100228T230000Z
DTEND:20100301T010000Z
CATEGORIES:community
LOCATION:First Church JP @ the Monument
WEBSITE:
URL:
CONTACT:
ORGANIZER;CN="Sarah Martin Hawkins":http://neighborsforneighbors.org/p
 rofile/SarahMartin
ATTACH;FMTTYPE="image/jpeg":http://storage.ning.com/topology/rest/1.0/
 file/get/2245123271?profile=original
ATTENDEE;ROLE=REQ-PARTICIPANT;PARTSTAT=ACCEPTED;RSVP=TRUE;CN="Sarah Ma
 rtin Hawkins":http://neighborsforneighbors.org/profile/SarahMartin
END:VEVENT
END:VCALENDAR
