BEGIN:VCALENDAR
PRODID:NingEventWidget-v1
VERSION:2.0
METHOD:PUBLISH
BEGIN:VEVENT
UID:1171189:Event:35362
DTSTAMP:20260421T184254Z
SUMMARY:The Time Trade Circle: A local, recession-proof economy
DESCRIPTION:What’s a time bank?\nA time bank is an organization wher
 e members have a bank account of time, and exchange time-based service
 s with other members. It’s a pool of members, and operates like a ci
 rcle, not a one-to-one swap or barter. In a time bank, for example, La
 ra makes a cake for Aldo, Keren gives skiing lessons to David, Dianne 
 gives Carol ride to the airport, Carol paints a painting for Louisa, K
 rystyna lends her vacation house to Alice, etc. You get time credit fo
 r the services you provide, and you can spend that time on services th
 at other members offer.\n\nAfter the economic crisis, more people are 
 bartering with friends and neighbors and forming time banks to share g
 oods and services locally. Come meet local members of the Time Trade C
 ircle, a Boston-area organization with more than 500 members, to learn
  how you can start participating in this locally-grown and sustainable
  economy.\nThis orientation meeting will be followed by a potluck get-
 together at 5:00 PM, including JP folks who are already members of the
  Time Trade Circle. If you wish to stay for the potluck, please bring 
 a dish to share.\n\nTo learn more about time banking, please visit www
 .timetradecircle.org\n\nCo-sponsored by the Common Security Clubs and 
 the Time Trade Circle\n\nFor more information visit http://neighborsfo
 rneighbors.org/events/the-time-trade-circle-a-local
DTSTART:20100221T210000Z
DTEND:20100221T230000Z
CATEGORIES:workshop
LOCATION:First Church in Jamaica Plain, UU
WEBSITE:http://www.jamaicaplainforum.org
URL:http://www.jamaicaplainforum.org
CONTACT:
ORGANIZER;CN="Liz W.":http://neighborsforneighbors.org/profile/LizW
ATTACH;FMTTYPE="image/jpeg":http://storage.ning.com/topology/rest/1.0/
 file/get/2245123046?profile=original
ATTENDEE;ROLE=REQ-PARTICIPANT;PARTSTAT=ACCEPTED;RSVP=TRUE;CN="Liz W.":
 http://neighborsforneighbors.org/profile/LizW
END:VEVENT
END:VCALENDAR
