BEGIN:VCALENDAR
PRODID:NingEventWidget-v1
VERSION:2.0
METHOD:PUBLISH
BEGIN:VEVENT
UID:1171189:Event:75595
DTSTAMP:20260421T165952Z
SUMMARY:The Trees and Forests of Indonesian Borneo
DESCRIPTION:Campbell Webb, Senior Research Scientist, Arnold Arboretum
 Thu June 23, 7:00pm–8:30pmLocation: Weld Hill Research and Administr
 ation BuildingThe giant island of Borneo in Indonesia is probably home
  to more than 5,000 types of trees, but botanists have yet to compile 
 a complete list. Unfortunately, the forests of Borneo are rapidly shri
 nking, and hundreds of species in unexplored regions may disappear bef
 ore they have been collected and recorded. Campbell Webb and his Indon
 esian colleagues have just finished a two-month botanical and ecologic
 al expedition to the heart of the Gunung Palung National Park in West 
 Kalimantan (Indonesian Borneo). He will describe some of the remarkabl
 e trees he studied, share his efforts to exchange botanical knowledge 
 with local collaborators, and explain the emerging global ‘semantic 
 web’ of data that science is amassing on tropical forests. He will a
 lso share tales of living in the Bornean rain forest and his plans for
  four future expeditions in this fascinating and vital hotspot of bota
 nical diversity. Free, but registration requested\n\nFor more informat
 ion visit http://neighborsforneighbors.org/events/the-trees-and-forest
 s-of
DTSTART:20110623T230000Z
DTEND:20110624T003000Z
CATEGORIES:free, lecture
LOCATION:Weld Hill Research Building, Arnold Arboretum
WEBSITE:https://my.arboretum.harvard.edu/Info.aspx?DayPlanner=1037&Day
 PlannerDate=6/23/2011
URL:https://my.arboretum.harvard.edu/Info.aspx?DayPlanner=1037&DayPlan
 nerDate=6/23/2011
CONTACT:617-384-5277
ORGANIZER:Pam Thompson, Arnold Arboretum
ATTACH;FMTTYPE="image/jpeg":
ATTENDEE;ROLE=REQ-PARTICIPANT;PARTSTAT=ACCEPTED;RSVP=TRUE;CN=Loay:http
 ://neighborsforneighbors.org/profile/Loay
ATTENDEE;ROLE=REQ-PARTICIPANT;PARTSTAT=ACCEPTED;RSVP=TRUE;CN="Pam Thom
 pson":http://neighborsforneighbors.org/profile/PamThompson
END:VEVENT
END:VCALENDAR
