BEGIN:VCALENDAR
PRODID:NingEventWidget-v1
VERSION:2.0
METHOD:PUBLISH
BEGIN:VEVENT
UID:1171189:Event:91806
DTSTAMP:20260421T232305Z
SUMMARY:The Visiting Mexican Artists Program: The Dancing Chickens of 
 Ventura Fabian
DESCRIPTION:Come join master woodcarver Ventura Fabian and his son, No
 rberto, as they create their hand-carved, hand-painted Oaxacan wooden 
 figures. Ventura's dancing chickens, strumming mermaids, and drumming 
 cats are known for their humor and whimsy. The program includes a brie
 f talk and short video about their craft and life in the rugged hillsi
 des of Oaxaca, Mexico.\nhttp://www.thedancingchickens.com\n\nFor more 
 information visit http://neighborsforneighbors.org/events/the-visiting
 -mexican-artists-program-the-dancing-chickens-of
DTSTART:20121110T160000Z
DTEND:20121110T170000Z
CATEGORIES:"demonstration/talk"
LOCATION:Jamaica Plain Branch Library
WEBSITE:http://www.bpl.org/branches/jamaica.htm
URL:http://www.bpl.org/branches/jamaica.htm
CONTACT:617-524-2053
ORGANIZER;CN="Nina Hasin":http://neighborsforneighbors.org/profile/Nin
 aHasin479
ATTACH;FMTTYPE="image/jpeg":http://storage.ning.com/topology/rest/1.0/
 file/get/2245131066?profile=original
ATTENDEE;ROLE=REQ-PARTICIPANT;PARTSTAT=ACCEPTED;RSVP=TRUE;CN="Nina Has
 in":http://neighborsforneighbors.org/profile/NinaHasin479
END:VEVENT
END:VCALENDAR
