BEGIN:VCALENDAR
PRODID:NingEventWidget-v1
VERSION:2.0
METHOD:PUBLISH
BEGIN:VEVENT
UID:1171189:Event:34549
DTSTAMP:20260421T182120Z
SUMMARY:The White haus Presents-Greg Mullens & The Ambitious Tug Boat
DESCRIPTION:ALCHEMIST\n\n2/3/2010 10:00 PM at The White haus Presents-
 Greg Mullens & The Ambitious Tug Boat\n435 South Huntington Avenue, Ja
 maica Plain, Massachusetts 02130\nCost: Always Free\n\nGREG MULLEN I m
 ake music with a guitar and hands and a mouth. Sometimes those hands a
 nd mouth and guitar are joined by trumpets and drums and friends. My f
 irst record, \"The Hungry Ocean\" will be coming out on vinyl in the w
 inter of 2010. It is the culmination of twenty-four years of looking a
 t light. Ambitious Tug Boat WMBR 88.1 FM Award Winners! We are the pro
 ud recipients of a special award from 88.1 FM WMBR, the MIT campus rad
 io station. The honors were presented yesterday morning on the Breakfa
 st of Champions program hosted by DJ Keith Sawyer. Ambitious Tugboat t
 ook home this week’s top prize in the category of \"Dumbest Band Nam
 e.\" On behalf of myself and the other members of the group, I want to
  say thank you to WMBR! We are all honored and humbled by this kind re
 cognition.\n\nFor more information visit http://neighborsforneighbors.
 org/events/the-white-haus-presentsgreg
DTSTART:20100204T030000Z
DTEND:20100204T060000Z
CATEGORIES:"folk/alt/pop/rock"
LOCATION:The Alchemist Lounge
WEBSITE:http://www.myspace.com/alchemistloungejp
URL:http://www.myspace.com/alchemistloungejp
CONTACT:617-477-5741
ORGANIZER;CN=Lyndon:http://neighborsforneighbors.org/profile/Lyndon
ATTACH;FMTTYPE="image/jpeg":http://storage.ning.com/topology/rest/1.0/
 file/get/2245121321?profile=original
ATTENDEE;ROLE=REQ-PARTICIPANT;PARTSTAT=ACCEPTED;RSVP=TRUE;CN=Lyndon:ht
 tp://neighborsforneighbors.org/profile/Lyndon
END:VEVENT
END:VCALENDAR
