BEGIN:VCALENDAR
PRODID:NingEventWidget-v1
VERSION:2.0
METHOD:PUBLISH
BEGIN:VEVENT
UID:1171189:Event:111009
DTSTAMP:20260421T201406Z
SUMMARY:The Winter Solstice in Legend and Song
DESCRIPTION:Welcome the Winter Solstice with haunting legends of light
 , evergreen traditions and entertaining tales accompanied by tradition
 al songs and music. Featured stories include the beautiful Scandinavia
 n tale “Legend of the Mistletoe,” a humorous English Wassail story
 , and the poignant Greek Solstice legend “The Coming of the Days of 
 Peace.” Lovely instrumental melodies, evoking the warmth of the seas
 on, round out the event. Traditional refreshments, including a Wassail
  Bowl, will be served.\n\nFor more information visit http://neighborsf
 orneighbors.org/events/the-winter-solstice-in-legend-and-song-4
DTSTART:20141221T010000Z
DTEND:20141221T030000Z
CATEGORIES:winter, solstice, celebration, storytelling, and, concert
LOCATION:Loring-Greenough House
WEBSITE:http://wintersolstice.brownpapertickets.com/
URL:http://wintersolstice.brownpapertickets.com/
CONTACT:617-522-4335
ORGANIZER;CN="Diane Edgecomb":http://neighborsforneighbors.org/profile
 /DianeEdgecomb
ATTACH;FMTTYPE="image/jpeg":http://storage.ning.com/topology/rest/1.0/
 file/get/2245142144?profile=original
ATTENDEE;ROLE=REQ-PARTICIPANT;PARTSTAT=ACCEPTED;RSVP=TRUE;CN="Diane Ed
 gecomb":http://neighborsforneighbors.org/profile/DianeEdgecomb
END:VEVENT
END:VCALENDAR
