BEGIN:VCALENDAR
PRODID:NingEventWidget-v1
VERSION:2.0
METHOD:PUBLISH
BEGIN:VEVENT
UID:1171189:Event:115184
DTSTAMP:20260421T204111Z
SUMMARY:The Winter Solstice in Legend and Song
DESCRIPTION:Celebrate the Winter Solstice with evergreen myths, haunti
 ng legends of light and entertaining tales accompanied by traditional 
 and original music and song. Master storyteller Diane Edgecomb, accomp
 anied by Celtic harper Margot Chamberlain and multi-instrumentalist To
 m Megan, brings to life a variety of ancient tales revealing the deep 
 meanings behind winter holiday traditions. Featured pieces include the
  beautiful Scandinavian “Legend of the Mistletoe,” humorous Englis
 h Wassail traditions, and the poignant Greek legend “The Coming of t
 he Days of Peace.” Lovely instrumental melodies, evoking the warmth 
 of the season, round out the event. Traditional refreshments, includin
 g a Wassail Bowl, will be served at intermission in the Loring-Greenou
 gh House’s elegant eighteenth century dining room.\n\nFor more infor
 mation visit http://neighborsforneighbors.org/events/the-winter-solsti
 ce-in-legend-and-song-6
DTSTART:20151220T010000Z
DTEND:20151220T030000Z
CATEGORIES:winter, solstice, celebration, storytelling, and, concert
LOCATION:Loring-Greenough House
WEBSITE:http://bitly.com/WinterSolstice2015
URL:http://bitly.com/WinterSolstice2015
CONTACT:6175224335
ORGANIZER;CN="Diane Edgecomb":http://neighborsforneighbors.org/profile
 /DianeEdgecomb
ATTACH;FMTTYPE="image/jpeg":http://storage.ning.com/topology/rest/1.0/
 file/get/2245142144?profile=original
ATTENDEE;ROLE=REQ-PARTICIPANT;PARTSTAT=ACCEPTED;RSVP=TRUE;CN="Diane Ed
 gecomb":http://neighborsforneighbors.org/profile/DianeEdgecomb
END:VEVENT
END:VCALENDAR
