BEGIN:VCALENDAR
PRODID:NingEventWidget-v1
VERSION:2.0
METHOD:PUBLISH
BEGIN:VEVENT
UID:1171189:Event:114810
DTSTAMP:20260421T204113Z
SUMMARY:The Winter Solstice in Legend and Song
DESCRIPTION:This hour-long story and music Solstice event especially f
 or families, features Diane’s most popular Solstice tales, from the 
 \"Legend of the Mistletoe\" to a traditional Wassail story where the w
 hole audience joins in. Celtic harper Margot Chamberlain and multi-ins
 trumentalist Tom Megan round out the event with songs, music and sing-
 alongs on harp, synthesizer and guitar. Appropriate for a family audie
 nce ages seven and up.\n\nFor more information visit http://neighborsf
 orneighbors.org/events/the-winter-solstice-in-legend-and-song-7
DTSTART:20151220T190000Z
DTEND:20151220T200000Z
CATEGORIES:winter, solstice, celebration, storytelling, and, concert
LOCATION:Loring-Greenough House
WEBSITE:http://bitly.com/WinterSolstice2015
URL:http://bitly.com/WinterSolstice2015
CONTACT:6175224335
ORGANIZER;CN="Diane Edgecomb":http://neighborsforneighbors.org/profile
 /DianeEdgecomb
ATTACH;FMTTYPE="image/jpeg":http://storage.ning.com/topology/rest/1.0/
 file/get/2245142144?profile=original
ATTENDEE;ROLE=REQ-PARTICIPANT;PARTSTAT=ACCEPTED;RSVP=TRUE;CN="Diane Ed
 gecomb":http://neighborsforneighbors.org/profile/DianeEdgecomb
END:VEVENT
END:VCALENDAR
