BEGIN:VCALENDAR
PRODID:NingEventWidget-v1
VERSION:2.0
METHOD:PUBLISH
BEGIN:VEVENT
UID:1171189:Event:118544
DTSTAMP:20260421T201510Z
SUMMARY:The Winter Solstice in Legend and Song
DESCRIPTION:Tickets: http://bit.ly/celebratesolstice2016\n\nCelebrate
  the time of the darkest nights with haunting legends of light, entert
 aining tales and traditional music and song to celebrate the season. S
 poken word and theatre artist Diane Edgecomb brings to life the ancien
 t myths that reveal the deep meaning behind winter holiday traditions.
  Featured stories include the Scandinavian “Legend of the Mistletoe,
 ” the Greek myth “The Coming of the Days of Peace.” as well as h
 umorous English Wassail traditions. Celtic harper Margot Chamberlain a
 nd multi-instrumentalist Tom Megan accompany the tales with instrument
 al melodies and bring traditional and original songs evoking the warmt
 h of the season, rounding out the event. Traditional refreshments, inc
 luding a Wassail Bowle, will be served at intermission in the Loring-G
 reenough House’s elegant eighteenth century dining room.\n\nFor more
  information visit http://neighborsforneighbors.org/events/the-winter-
 solstice-in-legend-and-song-8
DTSTART:20161217T010000Z
DTEND:20161218T200000Z
CATEGORIES:holiday, solstice, celebration
LOCATION:Loring-Greenough House
WEBSITE:http://bit.ly/celebratesolstice2016
URL:http://bit.ly/celebratesolstice2016
CONTACT:6175224335
ORGANIZER;CN="Diane Edgecomb":http://neighborsforneighbors.org/profile
 /DianeEdgecomb
ATTACH;FMTTYPE="image/jpeg":http://storage.ning.com/topology/rest/1.0/
 file/get/2245143012?profile=original
ATTENDEE;ROLE=REQ-PARTICIPANT;PARTSTAT=ACCEPTED;RSVP=TRUE;CN="Diane Ed
 gecomb":http://neighborsforneighbors.org/profile/DianeEdgecomb
END:VEVENT
END:VCALENDAR
