BEGIN:VCALENDAR
PRODID:NingEventWidget-v1
VERSION:2.0
METHOD:PUBLISH
BEGIN:VEVENT
UID:1171189:Event:86582
DTSTAMP:20260421T200637Z
SUMMARY:The Winter Solstice in Legend and Song - Diane Edgecomb accomp
 anied by musicians Margot Chamberlain and Tom Megan
DESCRIPTION:The Winter Solstice in Legend and Song\nDiane Edgecomb acc
 ompanied by musicians Margot Chamberlain and Tom Megan\nDecember 23rd,
  2010\nTime: 8 pm  (8 pm – 10 pm)\nLoring-Greenough House, 12 South
  Street, Jamaica Plain, MA 02130\nCelebrate the Winter Solstice with c
 lassic evergreen lore, haunting legends of light and entertaining tale
 s surrounded by traditional and original music and song. Featured stor
 ies include the beautiful “Legend of the Mistletoe” from Scandinav
 ia, humorous English Wassail traditions, and the poignant Greek legend
  “The Halcyon Days of Peace.” Master storyteller Diane Edgecomb ac
 companied by Celtic harper Margot Chamberlain and multi-instrumentalis
 t Tom Megan offers a fascinating look at the stories behind our holida
 y traditions. Traditional refreshments including a Wassail Bowle, song
 s evocative of the season and lovely instrumental melodies round out t
 he event.\n\nVenue Website: www.loring-greenough.org\nTickets: $20  w
 ww.livingmyth.com/tickets\nFor ages 12 and up\nLimited seating    
   Tickets in advance strongly suggested.\n\nFor more information visi
 t http://neighborsforneighbors.org/events/the-winter-solstice-in-legen
 d-and-song-diane-edgecomb-accompanied
DTSTART:20111224T010000Z
DTEND:20111224T030000Z
CATEGORIES:concert
LOCATION:Loring-Greenough House
WEBSITE:http://www.livingmyth.com/tickets
URL:http://www.livingmyth.com/tickets
CONTACT:617-522-4335
ORGANIZER;CN="Diane Edgecomb":http://neighborsforneighbors.org/profile
 /DianeEdgecomb
ATTACH;FMTTYPE="image/jpeg":http://storage.ning.com/topology/rest/1.0/
 file/get/2245136008?profile=original
ATTENDEE;ROLE=REQ-PARTICIPANT;PARTSTAT=ACCEPTED;RSVP=TRUE;CN="Diane Ed
 gecomb":http://neighborsforneighbors.org/profile/DianeEdgecomb
END:VEVENT
END:VCALENDAR
