BEGIN:VCALENDAR
PRODID:NingEventWidget-v1
VERSION:2.0
METHOD:PUBLISH
BEGIN:VEVENT
UID:1171189:Event:124058
DTSTAMP:20260421T190338Z
SUMMARY:The Winter Solstice in Story and Song
DESCRIPTION:Celebrate the longest nights with Solstice stories and so
 ngs evoking the warmth of the season. Oracle award-winning storytelle
 r Diane Edgecomb weaves together a tapestry of ancient tales: evergr
 een myths, legends of light and entertaining stories that reveal the 
 deep meaning behind our winter holiday traditions. This theatrical s
 torytelling, accompanied by Celtic harper Margot Chamberlain and mult
 i-instrumentalist Tom Megan, features the Scandinavian “Legend of t
 he Mistletoe,” seasonal music, song and humorous Wassail traditions
 . Complimentary refreshments including a cider-based Wassail Bowle w
 ill be served in the Loring-Greenough House’s elegant eighteenth ce
 ntury dining room.\n\nFriday, December 21 & Saturday, December 22nd:\n
 7:30 PM - 9:30 PM: a two part evening event with intermission includin
 g traditional refreshments\nTickets: $25\n \nSunday, December 23:\n2:
 00 PM – 3:00 PM: a special one hour Matinee performance Refreshments
  will be after the performance.\nTickets: $20\n\nFor more information 
 visit http://neighborsforneighbors.org/events/the-winter-solstice-in-s
 tory-and-song-1
DTSTART:20181222T003000Z
DTEND:20181223T200000Z
CATEGORIES:performing, arts
LOCATION:Loring-Greenough House
WEBSITE:https://wintersolstice_2018.eventbrite.com
URL:https://wintersolstice_2018.eventbrite.com
CONTACT:617-522-4335
ORGANIZER;CN="Diane Edgecomb":http://neighborsforneighbors.org/profile
 /DianeEdgecomb
ATTACH;FMTTYPE="image/jpeg":https://storage.ning.com/topology/rest/1.0
 /file/get/308233861?profile=original
ATTENDEE;ROLE=REQ-PARTICIPANT;PARTSTAT=ACCEPTED;RSVP=TRUE;CN="Diane Ed
 gecomb":http://neighborsforneighbors.org/profile/DianeEdgecomb
END:VEVENT
END:VCALENDAR
