BEGIN:VCALENDAR
PRODID:NingEventWidget-v1
VERSION:2.0
METHOD:PUBLISH
BEGIN:VEVENT
UID:1171189:Event:122078
DTSTAMP:20260421T220308Z
SUMMARY:The Winter Solstice in Story and Song
DESCRIPTION:Celebrate the Winter Solstice with evergreen myths, haunti
 ng legends of light and entertaining tales accompanied by traditional 
 and original music and song. Master storyteller Diane Edgecomb, accomp
 anied by Celtic harper Margot Chamberlain and multi-instrumentalist To
 m Megan, brings to life a variety of ancient tales revealing the deep 
 meanings behind winter holiday traditions. Featured pieces include the
  beautiful Scandinavian “Legend of the Mistletoe,” humorous Englis
 h Wassail traditions, and the poignant Greek legend “The Coming of t
 he Days of Peace.” Lovely instrumental melodies, evoking the warmth 
 of the season, round out the event.\nComplimentary refreshments, inclu
 ding a traditional Wassail Bowle, will grace an intermission in the Lo
 ring-Greenough House’s elegant eighteenth century dining room.\n \n
 \nThursday, December 21 and Friday, December 22nd\n8:00 pm (a two part
  evening event with an intermission featuring free traditional refresh
 ments)\nTickets: $25\n \nSaturday, December 23\n2:00 pm – 3:00 pm a
  special one hour Matinee performance After the performance there will
  be refreshments in the elegant Loring-Greenough House dining room.\nT
 ickets: $20\n\nFor more information visit http://neighborsforneighbors
 .org/events/the-winter-solstice-in-story-and-song
DTSTART:20171222T010000Z
DTEND:20171223T200000Z
CATEGORIES:holiday, storytelling, folk, music, spoken, word, solstice,
  seasonal
LOCATION:Loring-Greenough House
WEBSITE:http://wintersolstice2017.eventbrite.com
URL:http://wintersolstice2017.eventbrite.com
CONTACT:617-522-4335
ORGANIZER:Living Myth Events
ATTACH;FMTTYPE="image/jpeg":http://storage.ning.com/topology/rest/1.0/
 file/get/2245142144?profile=original
ATTENDEE;ROLE=REQ-PARTICIPANT;PARTSTAT=ACCEPTED;RSVP=TRUE;CN="Diane Ed
 gecomb":http://neighborsforneighbors.org/profile/DianeEdgecomb
END:VEVENT
END:VCALENDAR
