BEGIN:VCALENDAR
PRODID:NingEventWidget-v1
VERSION:2.0
METHOD:PUBLISH
BEGIN:VEVENT
UID:1171189:Event:96473
DTSTAMP:20260421T221127Z
SUMMARY:the Wish Project of Lowell Annual Golf Tournament
DESCRIPTION:Join us for a day of fun and networking!\nRegistration beg
 ins 8am Shotgun start 9am\nLight breakfast and coffee. Credit cards ac
 cepted. Scramble format. Lunch provided, Prizes for best score, closes
 t to pin and more. Raffles and so much more\nSponsorships Available (S
 ponsors are encouraged to supply 140 give-away items for the gift bag)
 \n$2,000 Gold (for lunch) $1,000 Silver (for Hole-in-one) Bronze Golf 
 Ball Sponsor (supplies 36 dozen balls) $750 Sponsor a hole + 4 golfers
  $250 Sponsor a hole only\nJoin us for a day of fun and networking!  M
 onday June 24th 2013 Butterbrook Golf Course Westford, MA Download fli
 er and registration form Registration begins 8am Shotgun start 9am Lig
 ht breakfast and coffee Credit cards accepted Scramble format Lunch pr
 ovided Prizes for best score, closest to pin and more Raffles and so m
 uch more\nSponsorships Available (Sponsors are encouraged to supply 14
 0 give-away items for the gift bag) $2,000 Gold (for lunch) $1,000 Sil
 ver (for Hole-in-one) Bronze Golf Ball Sponsor (supplies 36 dozen ball
 s) $750 Sponsor a hole + 4 golfers $250 Sponsor a hole only\n\nFor mor
 e information visit http://neighborsforneighbors.org/events/the-wish-p
 roject-of-lowell-annual-golf-tournament
DTSTART:20130624T040000Z
DTEND:20130625T035900Z
CATEGORIES:charity, fundraiser
LOCATION:Butterbrook Golf Course Westford, MA
WEBSITE:http://thewishproject.org/golf.html
URL:http://thewishproject.org/golf.html
CONTACT:(978) 692-6560
ORGANIZER:Donna Hunnewell, Founder/Executive Director The Wish Project
   978-441-WISH (9474) donna@thewishproject.org
ATTACH;FMTTYPE="image/jpeg":
ATTENDEE;ROLE=REQ-PARTICIPANT;PARTSTAT=ACCEPTED;RSVP=TRUE;CN="Bridget 
 Fulton-Cook":http://neighborsforneighbors.org/profile/BridgetFultonCoo
 k
END:VEVENT
END:VCALENDAR
