BEGIN:VCALENDAR
PRODID:NingEventWidget-v1
VERSION:2.0
METHOD:PUBLISH
BEGIN:VEVENT
UID:1171189:Event:103913
DTSTAMP:20260421T171840Z
SUMMARY:Third Annual JP Clothing Exchange
DESCRIPTION:The Clothing Exchange is a clothing swap for both men and 
 women. Swapping is a fantastic way to revitalize your wardrobe AND it 
 is also a super environmentally-friendly thing to do. You're diverting
  clothes from landfill, cutting carbon emissions, opting for fashion w
 ithout exploitation AND saving money!Â Tickets are $10 in advance, $15
  at the door (cash only)One free non-alcoholic beverage is included in
  ticket priceProceeds benefit First Church, Unitarian Universalist and
  Goodwill Industries of Massachusetts.More info and tickets atÂ http:/
 /www.brownpapertickets.com/event/450927!Here's how the Clothing Exchan
 ge works:Â For both men and women. (Sorry, no children's clothing at t
 his time) Bring your new, like-new or gently worn and clean items to s
 wap: clothing, shoes, hats, bags, belts, scarves, jackets, outerwear (
 no underwear!) jewelry, and accessories. All sizes and all seasons bot
 h men's and women's items are welcome. Please put jewelry into ziplock
  bags, and pin things together that come in pairs so they stay that wa
 y (like gloves & mittens).Remember: bring something that you are proud
  to pass on. If you wouldn't lend it to a friend, don't bring it to th
 e swap! We screen garments to uphold the quality, and the event organi
 zers have the final say as to what's swappable and what's not. We won'
 t accept swimsuits, undies, anything stained, ripped, or otherwise dam
 aged beyond repair.We swap on a one-for-one exchange, which means that
  for each swappable item you bring, you'll get a ticket. You get to br
 ing home one item for each ticket you receive. Cool! The more you brin
 g to the swap, the more you go home with!All remaining items will be d
 onated to Morgan Memorial Goodwill Industries of Massachusetts.Two Opt
 ions for clothing drop-off:Â :: ADVANCE Drop-Off: Saturday morning 10:
 45 to 11:30:: Or, just arrive at 12:30 with your stuff for swappingQue
 stions? Email Sarah Hawkins at firstchurchswap@gmail.comFind us.First 
 Church located on the corner of Eliot Street and Centre Street in Jama
 ica Plain, MA. The exact address is 8 Eliot Street. If taking public t
 ransportation, it's right on the #39 bus route. It's also under a mile
  from both the Stony Brook and Forest Hills T-stops on the Orange Line
 .VOLUNTEER!We need just a few more volunteers to make the event really
  rock. You'll help out a great cause, plus you'll get FREE admission!Â
  Volunteers are needed all day on Saturday from 9am to 5pm. Shifts are
  2 hours each. Just a few of the things we need help with::: Setting u
 p/breaking down:: Sorting clothes:: Keeping the swapping area and dres
 sing rooms neat:: Checking in/Checking out:: Raffle ticket salesIf you
 're interested in volunteering or have something you'd like to donate 
 for the raffle, please email Sarah Hawkins at firstchurchswap@gmail.co
 m.Â Happy swapping!More info and tickets atÂ http://www.brownpapertick
 ets.com/event/450927!\n\nFor more information visit http://neighborsfo
 rneighbors.org/events/third-annual-jp-clothing-exchange
DTSTART:20131005T163000Z
DTEND:20131005T190000Z
CATEGORIES:fundraiser, clothing, swap
LOCATION:First Church Unitarian Universalist
WEBSITE:http://goo.gl/maps/cP4H4
URL:http://goo.gl/maps/cP4H4
CONTACT:
ORGANIZER;CN="Sarah Martin Hawkins":http://neighborsforneighbors.org/p
 rofile/SarahMartin
ATTACH;FMTTYPE="image/jpeg":http://storage.ning.com/topology/rest/1.0/
 file/get/2245141872?profile=original
ATTENDEE;ROLE=REQ-PARTICIPANT;PARTSTAT=ACCEPTED;RSVP=TRUE;CN="Sarah Ma
 rtin Hawkins":http://neighborsforneighbors.org/profile/SarahMartin
END:VEVENT
END:VCALENDAR
