BEGIN:VCALENDAR
PRODID:NingEventWidget-v1
VERSION:2.0
METHOD:PUBLISH
BEGIN:VEVENT
UID:1171189:Event:98170
DTSTAMP:20260421T201819Z
SUMMARY:Three Generations, One Vision for Boston
DESCRIPTION:Join Mount Holyoke Alums for John Barros!\nJudith Kurlan
 d, '67, Liz (Clapp) O'Connor '88 and Jen Willsea, '02 invite you to 
 a fundraising event to support John Barros' campaign for Mayor.\nPlea
 se join us at Bella Luna on Monday, June 10 at 5;30pm to learn abou
 t why you should support John in the coming election.  These three 
 Uncommon Women are ardent supporters and very much would like to recru
 it you as well.\nWe are asking for an optional contribution of $25 but
  hope you'll consider a) more and b) coming even if you don't want to 
 donate.  http://www.barrosforboston.com/mount_holyoke_club\nLight ref
 reshments and a cash bar.\nBring your friends (no MHC connection requi
 red!).  Bring your questions! Come to meet people or to get involved 
 with the campaign. Or all of the above.\nWe hope to see you there.\n\n
 Judith Kurland, '67, Liz O'Connor, '88 and Jen Willsea, '02\n \n\nFor
  more information visit http://neighborsforneighbors.org/events/three-
 generations-one-vision-for-boston
DTSTART:20130610T213000Z
DTEND:20130611T003000Z
CATEGORIES:networking, pizza, fundraiser
LOCATION:Bella Luna
WEBSITE:
URL:
CONTACT:
ORGANIZER;CN="Liz O'Connor":http://neighborsforneighbors.org/profile/L
 izOConnor
ATTACH;FMTTYPE="image/jpeg":
ATTENDEE;ROLE=REQ-PARTICIPANT;PARTSTAT=ACCEPTED;RSVP=TRUE;CN="Liz O'Co
 nnor":http://neighborsforneighbors.org/profile/LizOConnor
END:VEVENT
END:VCALENDAR
